BEGIN:VCALENDAR
VERSION:2.0
PRODID:-//Corpus Christi School - ECPv6.15.20//NONSGML v1.0//EN
CALSCALE:GREGORIAN
METHOD:PUBLISH
X-WR-CALNAME:Corpus Christi School
X-ORIGINAL-URL:https://www.cchristi.ca
X-WR-CALDESC:Events for Corpus Christi School
REFRESH-INTERVAL;VALUE=DURATION:PT1H
X-Robots-Tag:noindex
X-PUBLISHED-TTL:PT1H
BEGIN:VTIMEZONE
TZID:Asia/Shanghai
BEGIN:STANDARD
TZOFFSETFROM:+0800
TZOFFSETTO:+0800
TZNAME:CST
DTSTART:20230101T000000
END:STANDARD
END:VTIMEZONE
BEGIN:VEVENT
DTSTART;VALUE=DATE:20241113
DTEND;VALUE=DATE:20241116
DTSTAMP:20260424T180210
CREATED:20231029T111102Z
LAST-MODIFIED:20240705T163715Z
UID:14952-1731456000-1731715199@www.cchristi.ca
SUMMARY:Book Fair
DESCRIPTION:
URL:https://www.cchristi.ca/event/book-fair-6/
END:VEVENT
END:VCALENDAR