BEGIN:VCALENDAR
VERSION:2.0
PRODID:-//Corpus Christi School - ECPv6.15.20//NONSGML v1.0//EN
CALSCALE:GREGORIAN
METHOD:PUBLISH
X-WR-CALNAME:Corpus Christi School
X-ORIGINAL-URL:https://www.cchristi.ca
X-WR-CALDESC:Events for Corpus Christi School
REFRESH-INTERVAL;VALUE=DURATION:PT1H
X-Robots-Tag:noindex
X-PUBLISHED-TTL:PT1H
BEGIN:VTIMEZONE
TZID:America/Los_Angeles
BEGIN:DAYLIGHT
TZOFFSETFROM:-0800
TZOFFSETTO:-0700
TZNAME:PDT
DTSTART:20230312T100000
END:DAYLIGHT
BEGIN:STANDARD
TZOFFSETFROM:-0700
TZOFFSETTO:-0800
TZNAME:PST
DTSTART:20231105T090000
END:STANDARD
BEGIN:DAYLIGHT
TZOFFSETFROM:-0800
TZOFFSETTO:-0700
TZNAME:PDT
DTSTART:20240310T100000
END:DAYLIGHT
BEGIN:STANDARD
TZOFFSETFROM:-0700
TZOFFSETTO:-0800
TZNAME:PST
DTSTART:20241103T090000
END:STANDARD
BEGIN:DAYLIGHT
TZOFFSETFROM:-0800
TZOFFSETTO:-0700
TZNAME:PDT
DTSTART:20250309T100000
END:DAYLIGHT
BEGIN:STANDARD
TZOFFSETFROM:-0700
TZOFFSETTO:-0800
TZNAME:PST
DTSTART:20251102T090000
END:STANDARD
BEGIN:DAYLIGHT
TZOFFSETFROM:-0800
TZOFFSETTO:-0700
TZNAME:PDT
DTSTART:20260308T100000
END:DAYLIGHT
BEGIN:STANDARD
TZOFFSETFROM:-0700
TZOFFSETTO:-0800
TZNAME:PST
DTSTART:20261101T090000
END:STANDARD
BEGIN:DAYLIGHT
TZOFFSETFROM:-0800
TZOFFSETTO:-0700
TZNAME:PDT
DTSTART:20270314T100000
END:DAYLIGHT
BEGIN:STANDARD
TZOFFSETFROM:-0700
TZOFFSETTO:-0800
TZNAME:PST
DTSTART:20271107T090000
END:STANDARD
END:VTIMEZONE
BEGIN:VEVENT
DTSTART;TZID=America/Los_Angeles:20260425T090000
DTEND;TZID=America/Los_Angeles:20260425T101500
DTSTAMP:20260423T055200
CREATED:20250629T163644Z
LAST-MODIFIED:20250629T163644Z
UID:18804-1777107600-1777112100@www.cchristi.ca
SUMMARY:First Holy Communion
DESCRIPTION:
URL:https://www.cchristi.ca/event/first-holy-communion/
END:VEVENT
BEGIN:VEVENT
DTSTART;TZID=America/Los_Angeles:20240904T090000
DTEND;TZID=America/Los_Angeles:20240904T100000
DTSTAMP:20260423T055200
CREATED:20240704T194355Z
LAST-MODIFIED:20240704T205633Z
UID:16366-1725440400-1725444000@www.cchristi.ca
SUMMARY:School Mass
DESCRIPTION:
URL:https://www.cchristi.ca/event/school-mass/
END:VEVENT
BEGIN:VEVENT
DTSTART;TZID=America/Los_Angeles:20260429T090500
DTEND;TZID=America/Los_Angeles:20260429T100000
DTSTAMP:20260423T055200
CREATED:20250710T180920Z
LAST-MODIFIED:20250710T180920Z
UID:18899-1777453500-1777456800@www.cchristi.ca
SUMMARY:School Mass
DESCRIPTION:
URL:https://www.cchristi.ca/event/school-mass-36/
END:VEVENT
BEGIN:VEVENT
DTSTART;TZID=America/Los_Angeles:20260430T180000
DTEND;TZID=America/Los_Angeles:20260430T193000
DTSTAMP:20260423T055200
CREATED:20260410T165418Z
LAST-MODIFIED:20260410T165438Z
UID:20462-1777572000-1777577400@www.cchristi.ca
SUMMARY:Confirmation Mass @ 6:00 pm
DESCRIPTION:
URL:https://www.cchristi.ca/event/confirmation-mass-600-pm/
END:VEVENT
BEGIN:VEVENT
DTSTART;TZID=America/Los_Angeles:20240904T090000
DTEND;TZID=America/Los_Angeles:20240904T100000
DTSTAMP:20260423T055200
CREATED:20240704T194355Z
LAST-MODIFIED:20240704T205633Z
UID:16366-1725440400-1725444000@www.cchristi.ca
SUMMARY:School Mass
DESCRIPTION:
URL:https://www.cchristi.ca/event/school-mass/
END:VEVENT
BEGIN:VEVENT
DTSTART;TZID=America/Los_Angeles:20260506T090500
DTEND;TZID=America/Los_Angeles:20260506T100000
DTSTAMP:20260423T055200
CREATED:20250711T032711Z
LAST-MODIFIED:20250711T032711Z
UID:18901-1778058300-1778061600@www.cchristi.ca
SUMMARY:School Mass
DESCRIPTION:
URL:https://www.cchristi.ca/event/school-mass-37/
END:VEVENT
BEGIN:VEVENT
DTSTART;TZID=America/Los_Angeles:20240904T090000
DTEND;TZID=America/Los_Angeles:20240904T100000
DTSTAMP:20260423T055200
CREATED:20240704T194355Z
LAST-MODIFIED:20240704T205633Z
UID:16366-1725440400-1725444000@www.cchristi.ca
SUMMARY:School Mass
DESCRIPTION:
URL:https://www.cchristi.ca/event/school-mass/
END:VEVENT
BEGIN:VEVENT
DTSTART;TZID=America/Los_Angeles:20260513T090500
DTEND;TZID=America/Los_Angeles:20260513T100000
DTSTAMP:20260423T055200
CREATED:20250711T032753Z
LAST-MODIFIED:20250711T032753Z
UID:18903-1778663100-1778666400@www.cchristi.ca
SUMMARY:School Mass
DESCRIPTION:
URL:https://www.cchristi.ca/event/school-mass-38/
END:VEVENT
BEGIN:VEVENT
DTSTART;VALUE=DATE:20260518
DTEND;VALUE=DATE:20260519
DTSTAMP:20260423T055200
CREATED:20250628T233825Z
LAST-MODIFIED:20250628T233825Z
UID:18782-1779062400-1779148799@www.cchristi.ca
SUMMARY:Victoria Day - School Closed
DESCRIPTION:
URL:https://www.cchristi.ca/event/victoria-day-school-closed/
END:VEVENT
BEGIN:VEVENT
DTSTART;VALUE=DATE:20260519
DTEND;VALUE=DATE:20260520
DTSTAMP:20260423T055200
CREATED:20250628T233858Z
LAST-MODIFIED:20250628T233858Z
UID:18784-1779148800-1779235199@www.cchristi.ca
SUMMARY:Professional Day - School Closed
DESCRIPTION:
URL:https://www.cchristi.ca/event/professional-day-school-closed-5/
END:VEVENT
BEGIN:VEVENT
DTSTART;TZID=America/Los_Angeles:20240904T090000
DTEND;TZID=America/Los_Angeles:20240904T100000
DTSTAMP:20260423T055200
CREATED:20240704T194355Z
LAST-MODIFIED:20240704T205633Z
UID:16366-1725440400-1725444000@www.cchristi.ca
SUMMARY:School Mass
DESCRIPTION:
URL:https://www.cchristi.ca/event/school-mass/
END:VEVENT
BEGIN:VEVENT
DTSTART;TZID=America/Los_Angeles:20260520T090500
DTEND;TZID=America/Los_Angeles:20260520T100000
DTSTAMP:20260423T055200
CREATED:20250711T032835Z
LAST-MODIFIED:20250711T032835Z
UID:18905-1779267900-1779271200@www.cchristi.ca
SUMMARY:School Mass
DESCRIPTION:
URL:https://www.cchristi.ca/event/school-mass-39/
END:VEVENT
BEGIN:VEVENT
DTSTART;TZID=America/Los_Angeles:20240904T090000
DTEND;TZID=America/Los_Angeles:20240904T100000
DTSTAMP:20260423T055200
CREATED:20240704T194355Z
LAST-MODIFIED:20240704T205633Z
UID:16366-1725440400-1725444000@www.cchristi.ca
SUMMARY:School Mass
DESCRIPTION:
URL:https://www.cchristi.ca/event/school-mass/
END:VEVENT
BEGIN:VEVENT
DTSTART;TZID=America/Los_Angeles:20260527T090500
DTEND;TZID=America/Los_Angeles:20260527T100000
DTSTAMP:20260423T055200
CREATED:20250711T032921Z
LAST-MODIFIED:20250711T032921Z
UID:18907-1779872700-1779876000@www.cchristi.ca
SUMMARY:School Mass
DESCRIPTION:
URL:https://www.cchristi.ca/event/school-mass-40/
END:VEVENT
BEGIN:VEVENT
DTSTART;TZID=America/Los_Angeles:20240904T090000
DTEND;TZID=America/Los_Angeles:20240904T100000
DTSTAMP:20260423T055200
CREATED:20240704T194355Z
LAST-MODIFIED:20240704T205633Z
UID:16366-1725440400-1725444000@www.cchristi.ca
SUMMARY:School Mass
DESCRIPTION:
URL:https://www.cchristi.ca/event/school-mass/
END:VEVENT
BEGIN:VEVENT
DTSTART;TZID=America/Los_Angeles:20260603T090500
DTEND;TZID=America/Los_Angeles:20260603T100000
DTSTAMP:20260423T055200
CREATED:20250711T033003Z
LAST-MODIFIED:20250711T033003Z
UID:18909-1780477500-1780480800@www.cchristi.ca
SUMMARY:School Mass
DESCRIPTION:
URL:https://www.cchristi.ca/event/school-mass-41/
END:VEVENT
BEGIN:VEVENT
DTSTART;VALUE=DATE:20260604
DTEND;VALUE=DATE:20260605
DTSTAMP:20260423T055200
CREATED:20250628T234006Z
LAST-MODIFIED:20250628T234006Z
UID:18786-1780531200-1780617599@www.cchristi.ca
SUMMARY:Sports Day - Early Dismissal
DESCRIPTION:
URL:https://www.cchristi.ca/event/sports-day-early-dismissal/
END:VEVENT
BEGIN:VEVENT
DTSTART;VALUE=DATE:20260605
DTEND;VALUE=DATE:20260606
DTSTAMP:20260423T055200
CREATED:20250628T234046Z
LAST-MODIFIED:20250628T234046Z
UID:18788-1780617600-1780703999@www.cchristi.ca
SUMMARY:Professional Day - School Closed
DESCRIPTION:
URL:https://www.cchristi.ca/event/professional-day-school-closed-6/
END:VEVENT
BEGIN:VEVENT
DTSTART;VALUE=DATE:20260608
DTEND;VALUE=DATE:20260609
DTSTAMP:20260423T055200
CREATED:20250628T234115Z
LAST-MODIFIED:20250628T234115Z
UID:18790-1780876800-1780963199@www.cchristi.ca
SUMMARY:Professional Day - School Closed
DESCRIPTION:
URL:https://www.cchristi.ca/event/professional-day-school-closed-7/
END:VEVENT
BEGIN:VEVENT
DTSTART;TZID=America/Los_Angeles:20240904T090000
DTEND;TZID=America/Los_Angeles:20240904T100000
DTSTAMP:20260423T055200
CREATED:20240704T194355Z
LAST-MODIFIED:20240704T205633Z
UID:16366-1725440400-1725444000@www.cchristi.ca
SUMMARY:School Mass
DESCRIPTION:
URL:https://www.cchristi.ca/event/school-mass/
END:VEVENT
BEGIN:VEVENT
DTSTART;TZID=America/Los_Angeles:20260610T090500
DTEND;TZID=America/Los_Angeles:20260610T100000
DTSTAMP:20260423T055200
CREATED:20250711T033040Z
LAST-MODIFIED:20250711T033040Z
UID:18911-1781082300-1781085600@www.cchristi.ca
SUMMARY:School Mass
DESCRIPTION:
URL:https://www.cchristi.ca/event/school-mass-42/
END:VEVENT
BEGIN:VEVENT
DTSTART;TZID=America/Los_Angeles:20240904T090000
DTEND;TZID=America/Los_Angeles:20240904T100000
DTSTAMP:20260423T055200
CREATED:20240704T194355Z
LAST-MODIFIED:20240704T205633Z
UID:16366-1725440400-1725444000@www.cchristi.ca
SUMMARY:School Mass
DESCRIPTION:
URL:https://www.cchristi.ca/event/school-mass/
END:VEVENT
BEGIN:VEVENT
DTSTART;TZID=America/Los_Angeles:20260617T090500
DTEND;TZID=America/Los_Angeles:20260617T100000
DTSTAMP:20260423T055200
CREATED:20250711T033123Z
LAST-MODIFIED:20250711T033123Z
UID:18913-1781687100-1781690400@www.cchristi.ca
SUMMARY:School Mass
DESCRIPTION:
URL:https://www.cchristi.ca/event/school-mass-43/
END:VEVENT
BEGIN:VEVENT
DTSTART;TZID=America/Los_Angeles:20260619T173000
DTEND;TZID=America/Los_Angeles:20260619T210000
DTSTAMP:20260423T055200
CREATED:20250629T163748Z
LAST-MODIFIED:20250629T163748Z
UID:18806-1781890200-1781902800@www.cchristi.ca
SUMMARY:Gr. 7 Farewell
DESCRIPTION:
URL:https://www.cchristi.ca/event/gr-7-farewell/
END:VEVENT
BEGIN:VEVENT
DTSTART;VALUE=DATE:20260622
DTEND;VALUE=DATE:20260623
DTSTAMP:20260423T055200
CREATED:20250628T234254Z
LAST-MODIFIED:20250628T234254Z
UID:18792-1782086400-1782172799@www.cchristi.ca
SUMMARY:Yellow Shirt Day
DESCRIPTION:The students are welcome to wear yellow shirts today in memory of Ivan Chik. 
URL:https://www.cchristi.ca/event/yellow-shirt-day/
END:VEVENT
BEGIN:VEVENT
DTSTART;VALUE=DATE:20260623
DTEND;VALUE=DATE:20260624
DTSTAMP:20260423T055200
CREATED:20250628T234402Z
LAST-MODIFIED:20250628T234402Z
UID:18794-1782172800-1782259199@www.cchristi.ca
SUMMARY:Final Written Summary Distributed
DESCRIPTION:
URL:https://www.cchristi.ca/event/final-written-summary-distributed/
END:VEVENT
BEGIN:VEVENT
DTSTART;VALUE=DATE:20260624
DTEND;VALUE=DATE:20260625
DTSTAMP:20260423T055200
CREATED:20250628T234629Z
LAST-MODIFIED:20250628T234629Z
UID:18796-1782259200-1782345599@www.cchristi.ca
SUMMARY:Passing on of Candles/Last School Mass
DESCRIPTION:School Mass begins a 9:05 AM.   The students will be dismissed at 10:30 AM.  
URL:https://www.cchristi.ca/event/passing-on-of-candles-last-school-mass/
END:VEVENT
BEGIN:VEVENT
DTSTART;TZID=America/Los_Angeles:20240904T090000
DTEND;TZID=America/Los_Angeles:20240904T100000
DTSTAMP:20260423T055200
CREATED:20240704T194355Z
LAST-MODIFIED:20240704T205633Z
UID:16366-1725440400-1725444000@www.cchristi.ca
SUMMARY:School Mass
DESCRIPTION:
URL:https://www.cchristi.ca/event/school-mass/
END:VEVENT
BEGIN:VEVENT
DTSTART;TZID=America/Los_Angeles:20240904T090000
DTEND;TZID=America/Los_Angeles:20240904T100000
DTSTAMP:20260423T055200
CREATED:20240704T194355Z
LAST-MODIFIED:20240704T205633Z
UID:16366-1725440400-1725444000@www.cchristi.ca
SUMMARY:School Mass
DESCRIPTION:
URL:https://www.cchristi.ca/event/school-mass/
END:VEVENT
BEGIN:VEVENT
DTSTART;TZID=America/Los_Angeles:20240904T090000
DTEND;TZID=America/Los_Angeles:20240904T100000
DTSTAMP:20260423T055200
CREATED:20240704T194355Z
LAST-MODIFIED:20240704T205633Z
UID:16366-1725440400-1725444000@www.cchristi.ca
SUMMARY:School Mass
DESCRIPTION:
URL:https://www.cchristi.ca/event/school-mass/
END:VEVENT
END:VCALENDAR