BEGIN:VCALENDAR
VERSION:2.0
PRODID:-//Corpus Christi School - ECPv6.15.20//NONSGML v1.0//EN
CALSCALE:GREGORIAN
METHOD:PUBLISH
X-WR-CALNAME:Corpus Christi School
X-ORIGINAL-URL:https://www.cchristi.ca
X-WR-CALDESC:Events for Corpus Christi School
REFRESH-INTERVAL;VALUE=DURATION:PT1H
X-Robots-Tag:noindex
X-PUBLISHED-TTL:PT1H
BEGIN:VTIMEZONE
TZID:America/Los_Angeles
BEGIN:DAYLIGHT
TZOFFSETFROM:-0800
TZOFFSETTO:-0700
TZNAME:PDT
DTSTART:20230312T100000
END:DAYLIGHT
BEGIN:STANDARD
TZOFFSETFROM:-0700
TZOFFSETTO:-0800
TZNAME:PST
DTSTART:20231105T090000
END:STANDARD
BEGIN:DAYLIGHT
TZOFFSETFROM:-0800
TZOFFSETTO:-0700
TZNAME:PDT
DTSTART:20240310T100000
END:DAYLIGHT
BEGIN:STANDARD
TZOFFSETFROM:-0700
TZOFFSETTO:-0800
TZNAME:PST
DTSTART:20241103T090000
END:STANDARD
BEGIN:DAYLIGHT
TZOFFSETFROM:-0800
TZOFFSETTO:-0700
TZNAME:PDT
DTSTART:20250309T100000
END:DAYLIGHT
BEGIN:STANDARD
TZOFFSETFROM:-0700
TZOFFSETTO:-0800
TZNAME:PST
DTSTART:20251102T090000
END:STANDARD
END:VTIMEZONE
BEGIN:VTIMEZONE
TZID:Asia/Shanghai
BEGIN:STANDARD
TZOFFSETFROM:+0800
TZOFFSETTO:+0800
TZNAME:CST
DTSTART:20220101T000000
END:STANDARD
END:VTIMEZONE
BEGIN:VEVENT
DTSTART;TZID=America/Los_Angeles:20240125T183000
DTEND;TZID=America/Los_Angeles:20240125T183000
DTSTAMP:20260425T074549
CREATED:20240122T192813Z
LAST-MODIFIED:20240122T192813Z
UID:16002-1706207400-1706207400@www.cchristi.ca
SUMMARY:Confirmation Talk #2
DESCRIPTION:
URL:https://www.cchristi.ca/event/confirmation-talk-2/
END:VEVENT
BEGIN:VEVENT
DTSTART;VALUE=DATE:20240125
DTEND;VALUE=DATE:20240126
DTSTAMP:20260425T074549
CREATED:20240122T192015Z
LAST-MODIFIED:20240122T192425Z
UID:15996-1706140800-1706227199@www.cchristi.ca
SUMMARY:Report Card Distribution
DESCRIPTION:
URL:https://www.cchristi.ca/event/report-card-distribution/
END:VEVENT
BEGIN:VEVENT
DTSTART;VALUE=DATE:20240115
DTEND;VALUE=DATE:20240116
DTSTAMP:20260425T074549
CREATED:20231029T111927Z
LAST-MODIFIED:20231029T111927Z
UID:14960-1705276800-1705363199@www.cchristi.ca
SUMMARY:Professional Day - School Closed
DESCRIPTION:
URL:https://www.cchristi.ca/event/professional-day-school-closed/
END:VEVENT
BEGIN:VEVENT
DTSTART;VALUE=DATE:20231225
DTEND;VALUE=DATE:20240106
DTSTAMP:20260425T074549
CREATED:20231029T111635Z
LAST-MODIFIED:20231029T111635Z
UID:14956-1703462400-1704499199@www.cchristi.ca
SUMMARY:Christmas Break
DESCRIPTION:
URL:https://www.cchristi.ca/event/christmas-break/
END:VEVENT
END:VCALENDAR