BEGIN:VCALENDAR
VERSION:2.0
PRODID:-//Corpus Christi School - ECPv6.15.20//NONSGML v1.0//EN
CALSCALE:GREGORIAN
METHOD:PUBLISH
X-WR-CALNAME:Corpus Christi School
X-ORIGINAL-URL:https://www.cchristi.ca
X-WR-CALDESC:Events for Corpus Christi School
REFRESH-INTERVAL;VALUE=DURATION:PT1H
X-Robots-Tag:noindex
X-PUBLISHED-TTL:PT1H
BEGIN:VTIMEZONE
TZID:America/Los_Angeles
BEGIN:DAYLIGHT
TZOFFSETFROM:-0800
TZOFFSETTO:-0700
TZNAME:PDT
DTSTART:20230312T100000
END:DAYLIGHT
BEGIN:STANDARD
TZOFFSETFROM:-0700
TZOFFSETTO:-0800
TZNAME:PST
DTSTART:20231105T090000
END:STANDARD
BEGIN:DAYLIGHT
TZOFFSETFROM:-0800
TZOFFSETTO:-0700
TZNAME:PDT
DTSTART:20240310T100000
END:DAYLIGHT
BEGIN:STANDARD
TZOFFSETFROM:-0700
TZOFFSETTO:-0800
TZNAME:PST
DTSTART:20241103T090000
END:STANDARD
BEGIN:DAYLIGHT
TZOFFSETFROM:-0800
TZOFFSETTO:-0700
TZNAME:PDT
DTSTART:20250309T100000
END:DAYLIGHT
BEGIN:STANDARD
TZOFFSETFROM:-0700
TZOFFSETTO:-0800
TZNAME:PST
DTSTART:20251102T090000
END:STANDARD
END:VTIMEZONE
BEGIN:VTIMEZONE
TZID:Asia/Shanghai
BEGIN:STANDARD
TZOFFSETFROM:+0800
TZOFFSETTO:+0800
TZNAME:CST
DTSTART:20220101T000000
END:STANDARD
END:VTIMEZONE
BEGIN:VEVENT
DTSTART;VALUE=DATE:20240903
DTEND;VALUE=DATE:20240904
DTSTAMP:20260425T052010
CREATED:20240704T193150Z
LAST-MODIFIED:20240704T193200Z
UID:16355-1725321600-1725407999@www.cchristi.ca
SUMMARY:11:30am Dismissal
DESCRIPTION:
URL:https://www.cchristi.ca/event/1130am-dismissal/
END:VEVENT
BEGIN:VEVENT
DTSTART;VALUE=DATE:20240902
DTEND;VALUE=DATE:20240903
DTSTAMP:20260425T052010
CREATED:20231029T121949Z
LAST-MODIFIED:20231029T121949Z
UID:15014-1725235200-1725321599@www.cchristi.ca
SUMMARY:Labour Day
DESCRIPTION:
URL:https://www.cchristi.ca/event/labour-day/
END:VEVENT
BEGIN:VEVENT
DTSTART;VALUE=DATE:20240610
DTEND;VALUE=DATE:20240611
DTSTAMP:20260425T052010
CREATED:20231029T121155Z
LAST-MODIFIED:20231029T121155Z
UID:15005-1717977600-1718063999@www.cchristi.ca
SUMMARY:Professional Day
DESCRIPTION:The school will be closed today.
URL:https://www.cchristi.ca/event/professional-day/
END:VEVENT
BEGIN:VEVENT
DTSTART;VALUE=DATE:20240607
DTEND;VALUE=DATE:20240608
DTSTAMP:20260425T052010
CREATED:20231029T121109Z
LAST-MODIFIED:20231029T121109Z
UID:15003-1717718400-1717804799@www.cchristi.ca
SUMMARY:No School
DESCRIPTION:The school will be closed today.
URL:https://www.cchristi.ca/event/no-school/
END:VEVENT
BEGIN:VEVENT
DTSTART;VALUE=DATE:20240606
DTEND;VALUE=DATE:20240607
DTSTAMP:20260425T052010
CREATED:20231029T121028Z
LAST-MODIFIED:20231029T121028Z
UID:15001-1717632000-1717718399@www.cchristi.ca
SUMMARY:Sport Day
DESCRIPTION:Students will come to school dressed in their team colours and runners.  There will be an early dismissal at 11:30 AM
URL:https://www.cchristi.ca/event/sport-day/
END:VEVENT
BEGIN:VEVENT
DTSTART;VALUE=DATE:20240521
DTEND;VALUE=DATE:20240522
DTSTAMP:20260425T052010
CREATED:20231029T120556Z
LAST-MODIFIED:20231029T120715Z
UID:14996-1716249600-1716335999@www.cchristi.ca
SUMMARY:School Closed
DESCRIPTION:The school will be closed today.
URL:https://www.cchristi.ca/event/victoria-day/
END:VEVENT
BEGIN:VEVENT
DTSTART;VALUE=DATE:20240520
DTEND;VALUE=DATE:20240521
DTSTAMP:20260425T052010
CREATED:20240820T170618Z
LAST-MODIFIED:20240820T170618Z
UID:16502-1716163200-1716249599@www.cchristi.ca
SUMMARY:PRO-D Day - No school for students
DESCRIPTION:
URL:https://www.cchristi.ca/event/pro-d-day-no-school-for-students/
END:VEVENT
BEGIN:VEVENT
DTSTART;VALUE=DATE:20240520
DTEND;VALUE=DATE:20240521
DTSTAMP:20260425T052010
CREATED:20231029T120745Z
LAST-MODIFIED:20231029T120745Z
UID:14999-1716163200-1716249599@www.cchristi.ca
SUMMARY:Victoria Day
DESCRIPTION:The school will be closed.
URL:https://www.cchristi.ca/event/victoria-day-2/
END:VEVENT
BEGIN:VEVENT
DTSTART;TZID=Asia/Shanghai:20240507T093000
DTEND;TZID=Asia/Shanghai:20240507T223000
DTSTAMP:20260425T052010
CREATED:20231029T120414Z
LAST-MODIFIED:20231029T120414Z
UID:14993-1715074200-1715121000@www.cchristi.ca
SUMMARY:Kindergarten Orientation
DESCRIPTION:Kindergarten Orientation for students attending Corpus Christi School in September 2024 will take place in the gymnasium.
URL:https://www.cchristi.ca/event/kindergarten-orientation/
END:VEVENT
BEGIN:VEVENT
DTSTART;TZID=Asia/Shanghai:20240427T090000
DTEND;TZID=Asia/Shanghai:20240427T103000
DTSTAMP:20260425T052010
CREATED:20231029T115626Z
LAST-MODIFIED:20240705T182813Z
UID:14988-1714208400-1714213800@www.cchristi.ca
SUMMARY:Gr. 2 First Holy Communion @ 9:00 am
DESCRIPTION:
URL:https://www.cchristi.ca/event/gr-2-first-holy-communion/
END:VEVENT
BEGIN:VEVENT
DTSTART;TZID=Asia/Shanghai:20240417T183000
DTEND;TZID=Asia/Shanghai:20240417T200000
DTSTAMP:20260425T052010
CREATED:20231029T120035Z
LAST-MODIFIED:20240402T204914Z
UID:14991-1713378600-1713384000@www.cchristi.ca
SUMMARY:Share Learning Evening
DESCRIPTION:
URL:https://www.cchristi.ca/event/share-learning-evening/
END:VEVENT
BEGIN:VEVENT
DTSTART;VALUE=DATE:20240401
DTEND;VALUE=DATE:20240402
DTSTAMP:20260425T052010
CREATED:20231027T124015Z
LAST-MODIFIED:20231027T124015Z
UID:14836-1711929600-1712015999@www.cchristi.ca
SUMMARY:No School - Easter Monday
DESCRIPTION:
URL:https://www.cchristi.ca/event/no-school-easter-monday/
CATEGORIES:Events
END:VEVENT
BEGIN:VEVENT
DTSTART;VALUE=DATE:20240331
DTEND;VALUE=DATE:20240401
DTSTAMP:20260425T052010
CREATED:20231027T124015Z
LAST-MODIFIED:20231027T124015Z
UID:14838-1711843200-1711929599@www.cchristi.ca
SUMMARY:Easter Sunday
DESCRIPTION:
URL:https://www.cchristi.ca/event/easter-sunday/
END:VEVENT
BEGIN:VEVENT
DTSTART;VALUE=DATE:20240329
DTEND;VALUE=DATE:20240330
DTSTAMP:20260425T052010
CREATED:20231027T124015Z
LAST-MODIFIED:20231027T124015Z
UID:14834-1711670400-1711756799@www.cchristi.ca
SUMMARY:No School - Good Friday
DESCRIPTION:
URL:https://www.cchristi.ca/event/no-school-good-friday/
END:VEVENT
BEGIN:VEVENT
DTSTART;TZID=America/Los_Angeles:20240328T120500
DTEND;TZID=America/Los_Angeles:20240328T120500
DTSTAMP:20260425T052010
CREATED:20240325T160220Z
LAST-MODIFIED:20240325T160327Z
UID:16114-1711627500-1711627500@www.cchristi.ca
SUMMARY:Holy Thursday - Early Dismissal @ 12:05pm
DESCRIPTION:
URL:https://www.cchristi.ca/event/early-dismissal-2/
END:VEVENT
BEGIN:VEVENT
DTSTART;TZID=America/Los_Angeles:20240308T120500
DTEND;TZID=America/Los_Angeles:20240308T120500
DTSTAMP:20260425T052010
CREATED:20240131T164117Z
LAST-MODIFIED:20240131T164117Z
UID:16045-1709899500-1709899500@www.cchristi.ca
SUMMARY:Early Dismissal
DESCRIPTION:
URL:https://www.cchristi.ca/event/early-dismissal/
END:VEVENT
BEGIN:VEVENT
DTSTART;VALUE=DATE:20240229
DTEND;VALUE=DATE:20240301
DTSTAMP:20260425T052010
CREATED:20231029T114534Z
LAST-MODIFIED:20231029T114534Z
UID:14982-1709164800-1709251199@www.cchristi.ca
SUMMARY:Pink Shirt Day - Anti-Bullying Day
DESCRIPTION:Students may come to school dressed in pink to stand up against injustice\,  harassment and bullying.
URL:https://www.cchristi.ca/event/pink-shirt-day-anti-bullying-day/
END:VEVENT
BEGIN:VEVENT
DTSTART;VALUE=DATE:20240214
DTEND;VALUE=DATE:20240215
DTSTAMP:20260425T052010
CREATED:20231029T113945Z
LAST-MODIFIED:20231029T113945Z
UID:14980-1707868800-1707955199@www.cchristi.ca
SUMMARY:Ash Wednesday
DESCRIPTION:The first day of Lent
URL:https://www.cchristi.ca/event/ash-wednesday/
END:VEVENT
BEGIN:VEVENT
DTSTART;VALUE=DATE:20240212
DTEND;VALUE=DATE:20240213
DTSTAMP:20260425T052010
CREATED:20231029T113857Z
LAST-MODIFIED:20231029T113857Z
UID:14978-1707696000-1707782399@www.cchristi.ca
SUMMARY:Red Day
DESCRIPTION:Students may come to school dressed in red\, purple or pink
URL:https://www.cchristi.ca/event/red-day/
END:VEVENT
BEGIN:VEVENT
DTSTART;VALUE=DATE:20240211
DTEND;VALUE=DATE:20240212
DTSTAMP:20260425T052010
CREATED:20231029T113714Z
LAST-MODIFIED:20231029T113714Z
UID:14976-1707609600-1707695999@www.cchristi.ca
SUMMARY:Catholic Schools Week
DESCRIPTION:
URL:https://www.cchristi.ca/event/catholic-schools-week-2/
END:VEVENT
BEGIN:VEVENT
DTSTART;TZID=America/Los_Angeles:20240125T183000
DTEND;TZID=America/Los_Angeles:20240125T183000
DTSTAMP:20260425T052010
CREATED:20240122T192813Z
LAST-MODIFIED:20240122T192813Z
UID:16002-1706207400-1706207400@www.cchristi.ca
SUMMARY:Confirmation Talk #2
DESCRIPTION:
URL:https://www.cchristi.ca/event/confirmation-talk-2/
END:VEVENT
BEGIN:VEVENT
DTSTART;VALUE=DATE:20240125
DTEND;VALUE=DATE:20240126
DTSTAMP:20260425T052010
CREATED:20240122T192015Z
LAST-MODIFIED:20240122T192425Z
UID:15996-1706140800-1706227199@www.cchristi.ca
SUMMARY:Report Card Distribution
DESCRIPTION:
URL:https://www.cchristi.ca/event/report-card-distribution/
END:VEVENT
BEGIN:VEVENT
DTSTART;VALUE=DATE:20240115
DTEND;VALUE=DATE:20240116
DTSTAMP:20260425T052010
CREATED:20231029T111927Z
LAST-MODIFIED:20231029T111927Z
UID:14960-1705276800-1705363199@www.cchristi.ca
SUMMARY:Professional Day - School Closed
DESCRIPTION:
URL:https://www.cchristi.ca/event/professional-day-school-closed/
END:VEVENT
BEGIN:VEVENT
DTSTART;VALUE=DATE:20231225
DTEND;VALUE=DATE:20240106
DTSTAMP:20260425T052010
CREATED:20231029T111635Z
LAST-MODIFIED:20231029T111635Z
UID:14956-1703462400-1704499199@www.cchristi.ca
SUMMARY:Christmas Break
DESCRIPTION:
URL:https://www.cchristi.ca/event/christmas-break/
END:VEVENT
END:VCALENDAR