BEGIN:VCALENDAR
VERSION:2.0
PRODID:-//Corpus Christi School - ECPv6.15.20//NONSGML v1.0//EN
CALSCALE:GREGORIAN
METHOD:PUBLISH
X-WR-CALNAME:Corpus Christi School
X-ORIGINAL-URL:https://www.cchristi.ca
X-WR-CALDESC:Events for Corpus Christi School
REFRESH-INTERVAL;VALUE=DURATION:PT1H
X-Robots-Tag:noindex
X-PUBLISHED-TTL:PT1H
BEGIN:VTIMEZONE
TZID:America/Los_Angeles
BEGIN:DAYLIGHT
TZOFFSETFROM:-0800
TZOFFSETTO:-0700
TZNAME:PDT
DTSTART:20230312T100000
END:DAYLIGHT
BEGIN:STANDARD
TZOFFSETFROM:-0700
TZOFFSETTO:-0800
TZNAME:PST
DTSTART:20231105T090000
END:STANDARD
BEGIN:DAYLIGHT
TZOFFSETFROM:-0800
TZOFFSETTO:-0700
TZNAME:PDT
DTSTART:20240310T100000
END:DAYLIGHT
BEGIN:STANDARD
TZOFFSETFROM:-0700
TZOFFSETTO:-0800
TZNAME:PST
DTSTART:20241103T090000
END:STANDARD
BEGIN:DAYLIGHT
TZOFFSETFROM:-0800
TZOFFSETTO:-0700
TZNAME:PDT
DTSTART:20250309T100000
END:DAYLIGHT
BEGIN:STANDARD
TZOFFSETFROM:-0700
TZOFFSETTO:-0800
TZNAME:PST
DTSTART:20251102T090000
END:STANDARD
BEGIN:DAYLIGHT
TZOFFSETFROM:-0800
TZOFFSETTO:-0700
TZNAME:PDT
DTSTART:20260308T100000
END:DAYLIGHT
BEGIN:STANDARD
TZOFFSETFROM:-0700
TZOFFSETTO:-0800
TZNAME:PST
DTSTART:20261101T090000
END:STANDARD
END:VTIMEZONE
BEGIN:VEVENT
DTSTART;TZID=America/Los_Angeles:20240904T090000
DTEND;TZID=America/Los_Angeles:20240904T100000
DTSTAMP:20260425T034908
CREATED:20240704T194355Z
LAST-MODIFIED:20240704T205633Z
UID:16366-1725440400-1725444000@www.cchristi.ca
SUMMARY:School Mass
DESCRIPTION:
URL:https://www.cchristi.ca/event/school-mass/
END:VEVENT
BEGIN:VEVENT
DTSTART;TZID=America/Los_Angeles:20240904T090000
DTEND;TZID=America/Los_Angeles:20240904T100000
DTSTAMP:20260425T034908
CREATED:20240704T194355Z
LAST-MODIFIED:20240704T205633Z
UID:16366-1725440400-1725444000@www.cchristi.ca
SUMMARY:School Mass
DESCRIPTION:
URL:https://www.cchristi.ca/event/school-mass/
END:VEVENT
BEGIN:VEVENT
DTSTART;TZID=America/Los_Angeles:20240904T090000
DTEND;TZID=America/Los_Angeles:20240904T100000
DTSTAMP:20260425T034908
CREATED:20240704T194355Z
LAST-MODIFIED:20240704T205633Z
UID:16366-1725440400-1725444000@www.cchristi.ca
SUMMARY:School Mass
DESCRIPTION:
URL:https://www.cchristi.ca/event/school-mass/
END:VEVENT
BEGIN:VEVENT
DTSTART;VALUE=DATE:20250901
DTEND;VALUE=DATE:20250902
DTSTAMP:20260425T034908
CREATED:20250628T214431Z
LAST-MODIFIED:20250628T214431Z
UID:18674-1756684800-1756771199@www.cchristi.ca
SUMMARY:Labour Day
DESCRIPTION:
URL:https://www.cchristi.ca/event/labour-day-2/
END:VEVENT
BEGIN:VEVENT
DTSTART;TZID=America/Los_Angeles:20250902T084000
DTEND;TZID=America/Los_Angeles:20250902T113000
DTSTAMP:20260425T034908
CREATED:20250628T214643Z
LAST-MODIFIED:20250628T214643Z
UID:18678-1756802400-1756812600@www.cchristi.ca
SUMMARY:First Day of School
DESCRIPTION:
URL:https://www.cchristi.ca/event/first-day-of-school-2/
END:VEVENT
BEGIN:VEVENT
DTSTART;TZID=America/Los_Angeles:20240904T090000
DTEND;TZID=America/Los_Angeles:20240904T100000
DTSTAMP:20260425T034908
CREATED:20240704T194355Z
LAST-MODIFIED:20240704T205633Z
UID:16366-1725440400-1725444000@www.cchristi.ca
SUMMARY:School Mass
DESCRIPTION:
URL:https://www.cchristi.ca/event/school-mass/
END:VEVENT
BEGIN:VEVENT
DTSTART;TZID=America/Los_Angeles:20250903T090500
DTEND;TZID=America/Los_Angeles:20250903T100000
DTSTAMP:20260425T034908
CREATED:20250710T172324Z
LAST-MODIFIED:20250710T172324Z
UID:18836-1756890300-1756893600@www.cchristi.ca
SUMMARY:School Mass
DESCRIPTION:
URL:https://www.cchristi.ca/event/school-mass-7/
END:VEVENT
BEGIN:VEVENT
DTSTART;TZID=America/Los_Angeles:20250909T184500
DTEND;TZID=America/Los_Angeles:20250909T200000
DTSTAMP:20260425T034908
CREATED:20250628T215106Z
LAST-MODIFIED:20250628T215106Z
UID:18682-1757443500-1757448000@www.cchristi.ca
SUMMARY:Meet the Teacher (Staff) & Sexuality and Your Child
DESCRIPTION:
URL:https://www.cchristi.ca/event/meet-the-teacher-staff-sexuality-and-your-child/
END:VEVENT
BEGIN:VEVENT
DTSTART;VALUE=DATE:20250910
DTEND;VALUE=DATE:20250913
DTSTAMP:20260425T034908
CREATED:20250629T162209Z
LAST-MODIFIED:20250629T162209Z
UID:18798-1757462400-1757721599@www.cchristi.ca
SUMMARY:Gr. 7 Camp
DESCRIPTION:
URL:https://www.cchristi.ca/event/gr-7-camp/
END:VEVENT
BEGIN:VEVENT
DTSTART;TZID=America/Los_Angeles:20240904T090000
DTEND;TZID=America/Los_Angeles:20240904T100000
DTSTAMP:20260425T034908
CREATED:20240704T194355Z
LAST-MODIFIED:20240704T205633Z
UID:16366-1725440400-1725444000@www.cchristi.ca
SUMMARY:School Mass
DESCRIPTION:
URL:https://www.cchristi.ca/event/school-mass/
END:VEVENT
BEGIN:VEVENT
DTSTART;TZID=America/Los_Angeles:20250910T090500
DTEND;TZID=America/Los_Angeles:20250910T100000
DTSTAMP:20260425T034908
CREATED:20250710T172454Z
LAST-MODIFIED:20250710T172454Z
UID:18838-1757495100-1757498400@www.cchristi.ca
SUMMARY:School Mass
DESCRIPTION:
URL:https://www.cchristi.ca/event/school-mass-8/
END:VEVENT
BEGIN:VEVENT
DTSTART;TZID=America/Los_Angeles:20250916T084000
DTEND;TZID=America/Los_Angeles:20250916T120500
DTSTAMP:20260425T034908
CREATED:20250628T214922Z
LAST-MODIFIED:20250628T214922Z
UID:18680-1758012000-1758024300@www.cchristi.ca
SUMMARY:Early Dismissal
DESCRIPTION:
URL:https://www.cchristi.ca/event/early-dismissal-4/
END:VEVENT
BEGIN:VEVENT
DTSTART;TZID=America/Los_Angeles:20240904T090000
DTEND;TZID=America/Los_Angeles:20240904T100000
DTSTAMP:20260425T034908
CREATED:20240704T194355Z
LAST-MODIFIED:20240704T205633Z
UID:16366-1725440400-1725444000@www.cchristi.ca
SUMMARY:School Mass
DESCRIPTION:
URL:https://www.cchristi.ca/event/school-mass/
END:VEVENT
BEGIN:VEVENT
DTSTART;TZID=America/Los_Angeles:20250917T090500
DTEND;TZID=America/Los_Angeles:20250917T100000
DTSTAMP:20260425T034908
CREATED:20250710T172607Z
LAST-MODIFIED:20250710T172607Z
UID:18840-1758099900-1758103200@www.cchristi.ca
SUMMARY:School Mass
DESCRIPTION:
URL:https://www.cchristi.ca/event/school-mass-9/
END:VEVENT
BEGIN:VEVENT
DTSTART;VALUE=DATE:20250919
DTEND;VALUE=DATE:20250920
DTSTAMP:20260425T034908
CREATED:20250628T215320Z
LAST-MODIFIED:20250628T215320Z
UID:18684-1758240000-1758326399@www.cchristi.ca
SUMMARY:Photos (Individual & Class)
DESCRIPTION:
URL:https://www.cchristi.ca/event/photos-individual-class/
END:VEVENT
BEGIN:VEVENT
DTSTART;TZID=America/Los_Angeles:20250923T184500
DTEND;TZID=America/Los_Angeles:20250923T194500
DTSTAMP:20260425T034908
CREATED:20250628T224928Z
LAST-MODIFIED:20250628T224928Z
UID:18740-1758653100-1758656700@www.cchristi.ca
SUMMARY:Confirmation Talk for Parents
DESCRIPTION:
URL:https://www.cchristi.ca/event/confirmation-talk-for-parents/
END:VEVENT
BEGIN:VEVENT
DTSTART;TZID=America/Los_Angeles:20240904T090000
DTEND;TZID=America/Los_Angeles:20240904T100000
DTSTAMP:20260425T034908
CREATED:20240704T194355Z
LAST-MODIFIED:20240704T205633Z
UID:16366-1725440400-1725444000@www.cchristi.ca
SUMMARY:School Mass
DESCRIPTION:
URL:https://www.cchristi.ca/event/school-mass/
END:VEVENT
BEGIN:VEVENT
DTSTART;TZID=America/Los_Angeles:20250924T090500
DTEND;TZID=America/Los_Angeles:20250924T100000
DTSTAMP:20260425T034908
CREATED:20250710T172704Z
LAST-MODIFIED:20250710T172704Z
UID:18842-1758704700-1758708000@www.cchristi.ca
SUMMARY:School Mass
DESCRIPTION:
URL:https://www.cchristi.ca/event/school-mass-10/
END:VEVENT
BEGIN:VEVENT
DTSTART;VALUE=DATE:20250925
DTEND;VALUE=DATE:20250927
DTSTAMP:20260425T034908
CREATED:20250628T215547Z
LAST-MODIFIED:20250628T215547Z
UID:18686-1758758400-1758931199@www.cchristi.ca
SUMMARY:Reimagining the Classics and Proclaiming Our Faith Book Fair
DESCRIPTION:
URL:https://www.cchristi.ca/event/reimagining-the-classics-and-proclaiming-our-faith-book-fair/
END:VEVENT
BEGIN:VEVENT
DTSTART;VALUE=DATE:20250929
DTEND;VALUE=DATE:20250930
DTSTAMP:20260425T034908
CREATED:20250628T215906Z
LAST-MODIFIED:20250628T215906Z
UID:18688-1759104000-1759190399@www.cchristi.ca
SUMMARY:Orange  Shirt Day - Every Child Matters
DESCRIPTION:
URL:https://www.cchristi.ca/event/orange-shirt-day-every-child-matters/
END:VEVENT
BEGIN:VEVENT
DTSTART;VALUE=DATE:20250930
DTEND;VALUE=DATE:20251001
DTSTAMP:20260425T034908
CREATED:20250628T220029Z
LAST-MODIFIED:20250628T220029Z
UID:18690-1759190400-1759276799@www.cchristi.ca
SUMMARY:National Day for Truth & Reconciliation - School Closed
DESCRIPTION:
URL:https://www.cchristi.ca/event/national-day-for-truth-reconciliation-school-closed/
END:VEVENT
BEGIN:VEVENT
DTSTART;TZID=America/Los_Angeles:20240904T090000
DTEND;TZID=America/Los_Angeles:20240904T100000
DTSTAMP:20260425T034908
CREATED:20240704T194355Z
LAST-MODIFIED:20240704T205633Z
UID:16366-1725440400-1725444000@www.cchristi.ca
SUMMARY:School Mass
DESCRIPTION:
URL:https://www.cchristi.ca/event/school-mass/
END:VEVENT
BEGIN:VEVENT
DTSTART;TZID=America/Los_Angeles:20251001T090500
DTEND;TZID=America/Los_Angeles:20251001T100000
DTSTAMP:20260425T034908
CREATED:20250710T172857Z
LAST-MODIFIED:20250710T172857Z
UID:18844-1759309500-1759312800@www.cchristi.ca
SUMMARY:School Mass
DESCRIPTION:
URL:https://www.cchristi.ca/event/school-mass-11/
END:VEVENT
BEGIN:VEVENT
DTSTART;TZID=America/Los_Angeles:20251003T090000
DTEND;TZID=America/Los_Angeles:20251003T110000
DTSTAMP:20260425T034908
CREATED:20250909T201107Z
LAST-MODIFIED:20250909T201547Z
UID:19028-1759482000-1759489200@www.cchristi.ca
SUMMARY:WALK-A-THON Early dimissal @11:00AM
DESCRIPTION:
URL:https://www.cchristi.ca/event/walk-a-thon-early-dimissal-1100am/
END:VEVENT
BEGIN:VEVENT
DTSTART;TZID=America/Los_Angeles:20251003T130000
DTEND;TZID=America/Los_Angeles:20251003T140000
DTSTAMP:20260425T034908
CREATED:20250909T201827Z
LAST-MODIFIED:20250911T213109Z
UID:19031-1759496400-1759500000@www.cchristi.ca
SUMMARY:Open House for Kindergarten 2026 @ 1:00pm - 2:00pm
DESCRIPTION:
URL:https://www.cchristi.ca/event/open-house-100pm-200pm/
END:VEVENT
BEGIN:VEVENT
DTSTART;TZID=America/Los_Angeles:20240904T090000
DTEND;TZID=America/Los_Angeles:20240904T100000
DTSTAMP:20260425T034908
CREATED:20240704T194355Z
LAST-MODIFIED:20240704T205633Z
UID:16366-1725440400-1725444000@www.cchristi.ca
SUMMARY:School Mass
DESCRIPTION:
URL:https://www.cchristi.ca/event/school-mass/
END:VEVENT
BEGIN:VEVENT
DTSTART;TZID=America/Los_Angeles:20251008T090500
DTEND;TZID=America/Los_Angeles:20251008T100000
DTSTAMP:20260425T034908
CREATED:20250710T172936Z
LAST-MODIFIED:20250710T172936Z
UID:18846-1759914300-1759917600@www.cchristi.ca
SUMMARY:School Mass
DESCRIPTION:
URL:https://www.cchristi.ca/event/school-mass-12/
END:VEVENT
BEGIN:VEVENT
DTSTART;VALUE=DATE:20251013
DTEND;VALUE=DATE:20251014
DTSTAMP:20260425T034908
CREATED:20250628T220551Z
LAST-MODIFIED:20250628T220551Z
UID:18692-1760313600-1760399999@www.cchristi.ca
SUMMARY:Thanksgiving Day - School Closed
DESCRIPTION:
URL:https://www.cchristi.ca/event/thanksgiving-day-school-closed/
END:VEVENT
BEGIN:VEVENT
DTSTART;TZID=America/Los_Angeles:20240904T090000
DTEND;TZID=America/Los_Angeles:20240904T100000
DTSTAMP:20260425T034908
CREATED:20240704T194355Z
LAST-MODIFIED:20240704T205633Z
UID:16366-1725440400-1725444000@www.cchristi.ca
SUMMARY:School Mass
DESCRIPTION:
URL:https://www.cchristi.ca/event/school-mass/
END:VEVENT
BEGIN:VEVENT
DTSTART;TZID=America/Los_Angeles:20251015T090500
DTEND;TZID=America/Los_Angeles:20251015T100000
DTSTAMP:20260425T034908
CREATED:20250710T173027Z
LAST-MODIFIED:20250710T173027Z
UID:18848-1760519100-1760522400@www.cchristi.ca
SUMMARY:School Mass
DESCRIPTION:
URL:https://www.cchristi.ca/event/school-mass-13/
END:VEVENT
END:VCALENDAR