BEGIN:VCALENDAR
VERSION:2.0
PRODID:-//Corpus Christi School - ECPv6.15.20//NONSGML v1.0//EN
CALSCALE:GREGORIAN
METHOD:PUBLISH
X-ORIGINAL-URL:https://www.cchristi.ca
X-WR-CALDESC:Events for Corpus Christi School
REFRESH-INTERVAL;VALUE=DURATION:PT1H
X-Robots-Tag:noindex
X-PUBLISHED-TTL:PT1H
BEGIN:VTIMEZONE
TZID:America/Los_Angeles
BEGIN:DAYLIGHT
TZOFFSETFROM:-0800
TZOFFSETTO:-0700
TZNAME:PDT
DTSTART:20230312T100000
END:DAYLIGHT
BEGIN:STANDARD
TZOFFSETFROM:-0700
TZOFFSETTO:-0800
TZNAME:PST
DTSTART:20231105T090000
END:STANDARD
BEGIN:DAYLIGHT
TZOFFSETFROM:-0800
TZOFFSETTO:-0700
TZNAME:PDT
DTSTART:20240310T100000
END:DAYLIGHT
BEGIN:STANDARD
TZOFFSETFROM:-0700
TZOFFSETTO:-0800
TZNAME:PST
DTSTART:20241103T090000
END:STANDARD
BEGIN:DAYLIGHT
TZOFFSETFROM:-0800
TZOFFSETTO:-0700
TZNAME:PDT
DTSTART:20250309T100000
END:DAYLIGHT
BEGIN:STANDARD
TZOFFSETFROM:-0700
TZOFFSETTO:-0800
TZNAME:PST
DTSTART:20251102T090000
END:STANDARD
BEGIN:DAYLIGHT
TZOFFSETFROM:-0800
TZOFFSETTO:-0700
TZNAME:PDT
DTSTART:20260308T100000
END:DAYLIGHT
BEGIN:STANDARD
TZOFFSETFROM:-0700
TZOFFSETTO:-0800
TZNAME:PST
DTSTART:20261101T090000
END:STANDARD
END:VTIMEZONE
BEGIN:VTIMEZONE
TZID:Asia/Shanghai
BEGIN:STANDARD
TZOFFSETFROM:+0800
TZOFFSETTO:+0800
TZNAME:CST
DTSTART:20240101T000000
END:STANDARD
END:VTIMEZONE
BEGIN:VEVENT
DTSTART;TZID=America/Los_Angeles:20240904T090000
DTEND;TZID=America/Los_Angeles:20240904T100000
DTSTAMP:20260425T090517
CREATED:20240704T194355Z
LAST-MODIFIED:20240704T205633Z
UID:16366-1725440400-1725444000@www.cchristi.ca
SUMMARY:School Mass
DESCRIPTION:
URL:https://www.cchristi.ca/event/school-mass/
END:VEVENT
BEGIN:VEVENT
DTSTART;VALUE=DATE:20250130
DTEND;VALUE=DATE:20250131
DTSTAMP:20260425T090517
CREATED:20240705T172011Z
LAST-MODIFIED:20240705T172011Z
UID:16434-1738195200-1738281599@www.cchristi.ca
SUMMARY:Red T-Shirt Day: Dress Down for Lunar New Year
DESCRIPTION:
URL:https://www.cchristi.ca/event/red-t-shirt-day-dress-down-for-lunar-new-year/
END:VEVENT
BEGIN:VEVENT
DTSTART;TZID=America/Los_Angeles:20240904T090000
DTEND;TZID=America/Los_Angeles:20240904T100000
DTSTAMP:20260425T090517
CREATED:20240704T194355Z
LAST-MODIFIED:20240704T205633Z
UID:16366-1725440400-1725444000@www.cchristi.ca
SUMMARY:School Mass
DESCRIPTION:
URL:https://www.cchristi.ca/event/school-mass/
END:VEVENT
BEGIN:VEVENT
DTSTART;TZID=America/Los_Angeles:20250207T090000
DTEND;TZID=America/Los_Angeles:20250207T090000
DTSTAMP:20260425T090517
CREATED:20240131T163623Z
LAST-MODIFIED:20240705T172200Z
UID:16042-1738918800-1738918800@www.cchristi.ca
SUMMARY:St. Blaise/Blessing of the Throats
DESCRIPTION:
URL:https://www.cchristi.ca/event/st-blaise-blessing-of-the-throats/
END:VEVENT
BEGIN:VEVENT
DTSTART;TZID=America/Los_Angeles:20240904T090000
DTEND;TZID=America/Los_Angeles:20240904T100000
DTSTAMP:20260425T090517
CREATED:20240704T194355Z
LAST-MODIFIED:20240704T205633Z
UID:16366-1725440400-1725444000@www.cchristi.ca
SUMMARY:School Mass
DESCRIPTION:
URL:https://www.cchristi.ca/event/school-mass/
END:VEVENT
BEGIN:VEVENT
DTSTART;VALUE=DATE:20250213
DTEND;VALUE=DATE:20250216
DTSTAMP:20260425T090517
CREATED:20231029T112347Z
LAST-MODIFIED:20240705T172250Z
UID:14965-1739404800-1739663999@www.cchristi.ca
SUMMARY:Catholic Educators Conference
DESCRIPTION:No School for students
URL:https://www.cchristi.ca/event/catholic-educators-conference/
END:VEVENT
BEGIN:VEVENT
DTSTART;VALUE=DATE:20250217
DTEND;VALUE=DATE:20250218
DTSTAMP:20260425T090517
CREATED:20231029T112510Z
LAST-MODIFIED:20240705T172320Z
UID:14967-1739750400-1739836799@www.cchristi.ca
SUMMARY:National Family Day
DESCRIPTION:School Closed for Students
URL:https://www.cchristi.ca/event/national-family-day/
END:VEVENT
BEGIN:VEVENT
DTSTART;TZID=America/Los_Angeles:20240904T090000
DTEND;TZID=America/Los_Angeles:20240904T100000
DTSTAMP:20260425T090517
CREATED:20240704T194355Z
LAST-MODIFIED:20240704T205633Z
UID:16366-1725440400-1725444000@www.cchristi.ca
SUMMARY:School Mass
DESCRIPTION:
URL:https://www.cchristi.ca/event/school-mass/
END:VEVENT
BEGIN:VEVENT
DTSTART;TZID=America/Los_Angeles:20240904T090000
DTEND;TZID=America/Los_Angeles:20240904T100000
DTSTAMP:20260425T090517
CREATED:20240704T194355Z
LAST-MODIFIED:20240704T205633Z
UID:16366-1725440400-1725444000@www.cchristi.ca
SUMMARY:School Mass
DESCRIPTION:
URL:https://www.cchristi.ca/event/school-mass/
END:VEVENT
BEGIN:VEVENT
DTSTART;VALUE=DATE:20250227
DTEND;VALUE=DATE:20250228
DTSTAMP:20260425T090517
CREATED:20240705T172449Z
LAST-MODIFIED:20240705T173736Z
UID:16436-1740614400-1740700799@www.cchristi.ca
SUMMARY:Dress Down Day: Pink Day for anti-bullying
DESCRIPTION:
URL:https://www.cchristi.ca/event/book-fair-2/
END:VEVENT
BEGIN:VEVENT
DTSTART;VALUE=DATE:20250228
DTEND;VALUE=DATE:20250301
DTSTAMP:20260425T090517
CREATED:20240705T173538Z
LAST-MODIFIED:20240705T173538Z
UID:16439-1740700800-1740787199@www.cchristi.ca
SUMMARY:No School for Students: Professional Development Day
DESCRIPTION:
URL:https://www.cchristi.ca/event/no-school-for-students-professional-development-day/
END:VEVENT
BEGIN:VEVENT
DTSTART;TZID=America/Los_Angeles:20250305T090000
DTEND;TZID=America/Los_Angeles:20250305T100000
DTSTAMP:20260425T090517
CREATED:20240705T173941Z
LAST-MODIFIED:20240705T173946Z
UID:16441-1741165200-1741168800@www.cchristi.ca
SUMMARY:School Mass - Ash Wednesdsay
DESCRIPTION:
URL:https://www.cchristi.ca/event/school-mass-4/
END:VEVENT
BEGIN:VEVENT
DTSTART;VALUE=DATE:20250312
DTEND;VALUE=DATE:20250313
DTSTAMP:20260425T090517
CREATED:20240705T174139Z
LAST-MODIFIED:20240705T174251Z
UID:16443-1741737600-1741823999@www.cchristi.ca
SUMMARY:Second Learning Update Distributed
DESCRIPTION:
URL:https://www.cchristi.ca/event/second-learning-update-distributed/
END:VEVENT
BEGIN:VEVENT
DTSTART;TZID=America/Los_Angeles:20240904T090000
DTEND;TZID=America/Los_Angeles:20240904T100000
DTSTAMP:20260425T090517
CREATED:20240704T194355Z
LAST-MODIFIED:20240704T205633Z
UID:16366-1725440400-1725444000@www.cchristi.ca
SUMMARY:School Mass
DESCRIPTION:
URL:https://www.cchristi.ca/event/school-mass/
END:VEVENT
BEGIN:VEVENT
DTSTART;VALUE=DATE:20250313
DTEND;VALUE=DATE:20250314
DTSTAMP:20260425T090517
CREATED:20231029T112207Z
LAST-MODIFIED:20240705T174529Z
UID:14963-1741824000-1741910399@www.cchristi.ca
SUMMARY:Student Led Conferences
DESCRIPTION:No regular classes
URL:https://www.cchristi.ca/event/student-led-conferences-2/
END:VEVENT
BEGIN:VEVENT
DTSTART;VALUE=DATE:20250314
DTEND;VALUE=DATE:20250315
DTSTAMP:20260425T090517
CREATED:20240705T174952Z
LAST-MODIFIED:20240705T174952Z
UID:16446-1741910400-1741996799@www.cchristi.ca
SUMMARY:Dress Down Day: Green Day for St. Patrick's Day
DESCRIPTION:
URL:https://www.cchristi.ca/event/dress-down-day-green-day-for-st-patricks-day/
END:VEVENT
BEGIN:VEVENT
DTSTART;VALUE=DATE:20250314
DTEND;VALUE=DATE:20250315
DTSTAMP:20260425T090517
CREATED:20240705T175042Z
LAST-MODIFIED:20240705T175042Z
UID:16448-1741910400-1741996799@www.cchristi.ca
SUMMARY:Early Dismissal @ 12:05pm
DESCRIPTION:
URL:https://www.cchristi.ca/event/early-dismissal-1205pm/
END:VEVENT
BEGIN:VEVENT
DTSTART;VALUE=DATE:20250317
DTEND;VALUE=DATE:20250329
DTSTAMP:20260425T090517
CREATED:20231029T115302Z
LAST-MODIFIED:20240705T160314Z
UID:14984-1742169600-1743206399@www.cchristi.ca
SUMMARY:Spring Break
DESCRIPTION:
URL:https://www.cchristi.ca/event/spring-break/
END:VEVENT
BEGIN:VEVENT
DTSTART;VALUE=DATE:20250331
DTEND;VALUE=DATE:20250401
DTSTAMP:20260425T090517
CREATED:20231029T115340Z
LAST-MODIFIED:20240705T161219Z
UID:14986-1743379200-1743465599@www.cchristi.ca
SUMMARY:School Re-opens
DESCRIPTION:
URL:https://www.cchristi.ca/event/school-re-opens-2/
END:VEVENT
BEGIN:VEVENT
DTSTART;VALUE=DATE:20250401
DTEND;VALUE=DATE:20250402
DTSTAMP:20260425T090517
CREATED:20240131T163447Z
LAST-MODIFIED:20250226T170809Z
UID:16040-1743465600-1743551999@www.cchristi.ca
SUMMARY:Holy Communion Talk #2 in Person @6:45pm
DESCRIPTION:
URL:https://www.cchristi.ca/event/holy-communion-talk-2-2/
END:VEVENT
BEGIN:VEVENT
DTSTART;TZID=America/Los_Angeles:20240904T090000
DTEND;TZID=America/Los_Angeles:20240904T100000
DTSTAMP:20260425T090517
CREATED:20240704T194355Z
LAST-MODIFIED:20240704T205633Z
UID:16366-1725440400-1725444000@www.cchristi.ca
SUMMARY:School Mass
DESCRIPTION:
URL:https://www.cchristi.ca/event/school-mass/
END:VEVENT
BEGIN:VEVENT
DTSTART;VALUE=DATE:20250409
DTEND;VALUE=DATE:20250410
DTSTAMP:20260425T090517
CREATED:20240705T175541Z
LAST-MODIFIED:20240705T175621Z
UID:16455-1744156800-1744243199@www.cchristi.ca
SUMMARY:Gr. 2 First Holy Communion Retreat and Photos
DESCRIPTION:
URL:https://www.cchristi.ca/event/gr-2-first-holy-communion-retreat-and-photos/
END:VEVENT
BEGIN:VEVENT
DTSTART;TZID=America/Los_Angeles:20240904T090000
DTEND;TZID=America/Los_Angeles:20240904T100000
DTSTAMP:20260425T090517
CREATED:20240704T194355Z
LAST-MODIFIED:20240704T205633Z
UID:16366-1725440400-1725444000@www.cchristi.ca
SUMMARY:School Mass
DESCRIPTION:
URL:https://www.cchristi.ca/event/school-mass/
END:VEVENT
BEGIN:VEVENT
DTSTART;VALUE=DATE:20250411
DTEND;VALUE=DATE:20250412
DTSTAMP:20260425T090517
CREATED:20240705T175726Z
LAST-MODIFIED:20240705T175726Z
UID:16458-1744329600-1744415999@www.cchristi.ca
SUMMARY:Gr. 6 Immunizations Clinic #2
DESCRIPTION:
URL:https://www.cchristi.ca/event/gr-6-immunizations-clinic-2/
END:VEVENT
BEGIN:VEVENT
DTSTART;TZID=America/Los_Angeles:20240904T090000
DTEND;TZID=America/Los_Angeles:20240904T100000
DTSTAMP:20260425T090517
CREATED:20240704T194355Z
LAST-MODIFIED:20240704T205633Z
UID:16366-1725440400-1725444000@www.cchristi.ca
SUMMARY:School Mass
DESCRIPTION:
URL:https://www.cchristi.ca/event/school-mass/
END:VEVENT
BEGIN:VEVENT
DTSTART;VALUE=DATE:20250417
DTEND;VALUE=DATE:20250418
DTSTAMP:20260425T090517
CREATED:20250408T171053Z
LAST-MODIFIED:20250408T171053Z
UID:17703-1744848000-1744934399@www.cchristi.ca
SUMMARY:Holy Thursday - Early Dismissal @ 12:05PM
DESCRIPTION:
URL:https://www.cchristi.ca/event/holy-thursday-early-dismissal-1205pm/
END:VEVENT
BEGIN:VEVENT
DTSTART;VALUE=DATE:20250418
DTEND;VALUE=DATE:20250419
DTSTAMP:20260425T090517
CREATED:20240705T175959Z
LAST-MODIFIED:20240705T185419Z
UID:16460-1744934400-1745020799@www.cchristi.ca
SUMMARY:Good Friday - No School
DESCRIPTION:
URL:https://www.cchristi.ca/event/holy-thursday-dismissal-1205pm/
END:VEVENT
BEGIN:VEVENT
DTSTART;VALUE=DATE:20250421
DTEND;VALUE=DATE:20250422
DTSTAMP:20260425T090517
CREATED:20240705T180156Z
LAST-MODIFIED:20250414T215106Z
UID:16463-1745193600-1745279999@www.cchristi.ca
SUMMARY:Easter Monday - No School
DESCRIPTION:
URL:https://www.cchristi.ca/event/east-monday-no-school/
END:VEVENT
BEGIN:VEVENT
DTSTART;TZID=America/Los_Angeles:20250423T080000
DTEND;TZID=America/Los_Angeles:20250423T170000
DTSTAMP:20260425T090517
CREATED:20240705T180304Z
LAST-MODIFIED:20240705T180304Z
UID:16465-1745395200-1745427600@www.cchristi.ca
SUMMARY:Holy Communion Rehearsal @ 3:30pm
DESCRIPTION:
URL:https://www.cchristi.ca/event/holy-communion-rehearsal-330pm/
END:VEVENT
BEGIN:VEVENT
DTSTART;TZID=America/Los_Angeles:20240904T090000
DTEND;TZID=America/Los_Angeles:20240904T100000
DTSTAMP:20260425T090517
CREATED:20240704T194355Z
LAST-MODIFIED:20240704T205633Z
UID:16366-1725440400-1725444000@www.cchristi.ca
SUMMARY:School Mass
DESCRIPTION:
URL:https://www.cchristi.ca/event/school-mass/
END:VEVENT
END:VCALENDAR