BEGIN:VCALENDAR
VERSION:2.0
PRODID:-//Corpus Christi School - ECPv6.15.20//NONSGML v1.0//EN
CALSCALE:GREGORIAN
METHOD:PUBLISH
X-ORIGINAL-URL:https://www.cchristi.ca
X-WR-CALDESC:Events for Corpus Christi School
REFRESH-INTERVAL;VALUE=DURATION:PT1H
X-Robots-Tag:noindex
X-PUBLISHED-TTL:PT1H
BEGIN:VTIMEZONE
TZID:America/Los_Angeles
BEGIN:DAYLIGHT
TZOFFSETFROM:-0800
TZOFFSETTO:-0700
TZNAME:PDT
DTSTART:20230312T100000
END:DAYLIGHT
BEGIN:STANDARD
TZOFFSETFROM:-0700
TZOFFSETTO:-0800
TZNAME:PST
DTSTART:20231105T090000
END:STANDARD
BEGIN:DAYLIGHT
TZOFFSETFROM:-0800
TZOFFSETTO:-0700
TZNAME:PDT
DTSTART:20240310T100000
END:DAYLIGHT
BEGIN:STANDARD
TZOFFSETFROM:-0700
TZOFFSETTO:-0800
TZNAME:PST
DTSTART:20241103T090000
END:STANDARD
BEGIN:DAYLIGHT
TZOFFSETFROM:-0800
TZOFFSETTO:-0700
TZNAME:PDT
DTSTART:20250309T100000
END:DAYLIGHT
BEGIN:STANDARD
TZOFFSETFROM:-0700
TZOFFSETTO:-0800
TZNAME:PST
DTSTART:20251102T090000
END:STANDARD
BEGIN:DAYLIGHT
TZOFFSETFROM:-0800
TZOFFSETTO:-0700
TZNAME:PDT
DTSTART:20260308T100000
END:DAYLIGHT
BEGIN:STANDARD
TZOFFSETFROM:-0700
TZOFFSETTO:-0800
TZNAME:PST
DTSTART:20261101T090000
END:STANDARD
BEGIN:DAYLIGHT
TZOFFSETFROM:-0800
TZOFFSETTO:-0700
TZNAME:PDT
DTSTART:20270314T100000
END:DAYLIGHT
BEGIN:STANDARD
TZOFFSETFROM:-0700
TZOFFSETTO:-0800
TZNAME:PST
DTSTART:20271107T090000
END:STANDARD
END:VTIMEZONE
BEGIN:VEVENT
DTSTART;TZID=America/Los_Angeles:20251112T090500
DTEND;TZID=America/Los_Angeles:20251112T100000
DTSTAMP:20260425T082138
CREATED:20250710T173727Z
LAST-MODIFIED:20250710T173727Z
UID:18857-1762938300-1762941600@www.cchristi.ca
SUMMARY:School Mass
DESCRIPTION:
URL:https://www.cchristi.ca/event/school-mass-17/
END:VEVENT
BEGIN:VEVENT
DTSTART;TZID=America/Los_Angeles:20240904T090000
DTEND;TZID=America/Los_Angeles:20240904T100000
DTSTAMP:20260425T082138
CREATED:20240704T194355Z
LAST-MODIFIED:20240704T205633Z
UID:16366-1725440400-1725444000@www.cchristi.ca
SUMMARY:School Mass
DESCRIPTION:
URL:https://www.cchristi.ca/event/school-mass/
END:VEVENT
BEGIN:VEVENT
DTSTART;TZID=America/Los_Angeles:20251119T090500
DTEND;TZID=America/Los_Angeles:20251119T100000
DTSTAMP:20260425T082138
CREATED:20250710T173806Z
LAST-MODIFIED:20250711T034457Z
UID:18859-1763543100-1763546400@www.cchristi.ca
SUMMARY:School Paraliturgy
DESCRIPTION:
URL:https://www.cchristi.ca/event/school-mass-18/
END:VEVENT
BEGIN:VEVENT
DTSTART;VALUE=DATE:20251121
DTEND;VALUE=DATE:20251122
DTSTAMP:20260425T082138
CREATED:20250628T222213Z
LAST-MODIFIED:20250628T222213Z
UID:18712-1763683200-1763769599@www.cchristi.ca
SUMMARY:Professional Day - School Closed
DESCRIPTION:
URL:https://www.cchristi.ca/event/professional-day-school-closed-3/
END:VEVENT
BEGIN:VEVENT
DTSTART;TZID=America/Los_Angeles:20240904T090000
DTEND;TZID=America/Los_Angeles:20240904T100000
DTSTAMP:20260425T082138
CREATED:20240704T194355Z
LAST-MODIFIED:20240704T205633Z
UID:16366-1725440400-1725444000@www.cchristi.ca
SUMMARY:School Mass
DESCRIPTION:
URL:https://www.cchristi.ca/event/school-mass/
END:VEVENT
BEGIN:VEVENT
DTSTART;TZID=America/Los_Angeles:20251126T090500
DTEND;TZID=America/Los_Angeles:20251126T100000
DTSTAMP:20260425T082138
CREATED:20250710T173845Z
LAST-MODIFIED:20250711T033655Z
UID:18861-1764147900-1764151200@www.cchristi.ca
SUMMARY:School Mass
DESCRIPTION:
URL:https://www.cchristi.ca/event/school-mass-19/
END:VEVENT
BEGIN:VEVENT
DTSTART;VALUE=DATE:20251128
DTEND;VALUE=DATE:20251129
DTSTAMP:20260425T082138
CREATED:20250628T222344Z
LAST-MODIFIED:20250628T222344Z
UID:18714-1764288000-1764374399@www.cchristi.ca
SUMMARY:First Written Update Distributed
DESCRIPTION:
URL:https://www.cchristi.ca/event/first-written-update-distributed/
END:VEVENT
BEGIN:VEVENT
DTSTART;VALUE=DATE:20251130
DTEND;VALUE=DATE:20251201
DTSTAMP:20260425T082138
CREATED:20250628T222449Z
LAST-MODIFIED:20250628T222543Z
UID:18716-1764460800-1764547199@www.cchristi.ca
SUMMARY:First Sunday of Advent
DESCRIPTION:
URL:https://www.cchristi.ca/event/first-sunday-of-advent/
END:VEVENT
BEGIN:VEVENT
DTSTART;TZID=America/Los_Angeles:20240904T090000
DTEND;TZID=America/Los_Angeles:20240904T100000
DTSTAMP:20260425T082138
CREATED:20240704T194355Z
LAST-MODIFIED:20240704T205633Z
UID:16366-1725440400-1725444000@www.cchristi.ca
SUMMARY:School Mass
DESCRIPTION:
URL:https://www.cchristi.ca/event/school-mass/
END:VEVENT
BEGIN:VEVENT
DTSTART;TZID=America/Los_Angeles:20251203T090500
DTEND;TZID=America/Los_Angeles:20251203T100000
DTSTAMP:20260425T082138
CREATED:20250710T174042Z
LAST-MODIFIED:20250711T034551Z
UID:18863-1764752700-1764756000@www.cchristi.ca
SUMMARY:School Mass
DESCRIPTION:
URL:https://www.cchristi.ca/event/school-mass-20/
END:VEVENT
BEGIN:VEVENT
DTSTART;TZID=America/Los_Angeles:20240904T090000
DTEND;TZID=America/Los_Angeles:20240904T100000
DTSTAMP:20260425T082138
CREATED:20240704T194355Z
LAST-MODIFIED:20240704T205633Z
UID:16366-1725440400-1725444000@www.cchristi.ca
SUMMARY:School Mass
DESCRIPTION:
URL:https://www.cchristi.ca/event/school-mass/
END:VEVENT
BEGIN:VEVENT
DTSTART;TZID=America/Los_Angeles:20251210T090500
DTEND;TZID=America/Los_Angeles:20251210T100000
DTSTAMP:20260425T082138
CREATED:20250710T174128Z
LAST-MODIFIED:20250710T174128Z
UID:18865-1765357500-1765360800@www.cchristi.ca
SUMMARY:School Mass
DESCRIPTION:
URL:https://www.cchristi.ca/event/school-mass-21/
END:VEVENT
BEGIN:VEVENT
DTSTART;VALUE=DATE:20251212
DTEND;VALUE=DATE:20251213
DTSTAMP:20260425T082138
CREATED:20250628T222813Z
LAST-MODIFIED:20250628T223411Z
UID:18718-1765497600-1765583999@www.cchristi.ca
SUMMARY:Concert Filming/Photos with Costumes
DESCRIPTION:
URL:https://www.cchristi.ca/event/concert-filming-photos-with-costumes/
END:VEVENT
BEGIN:VEVENT
DTSTART;VALUE=DATE:20251216
DTEND;VALUE=DATE:20251217
DTSTAMP:20260425T082138
CREATED:20250628T223600Z
LAST-MODIFIED:20250628T223600Z
UID:18722-1765843200-1765929599@www.cchristi.ca
SUMMARY:Concert Dress Rehearsal with Costumes
DESCRIPTION:Parents are welcome to watch the Dress Rehearsal at 1:30 PM
URL:https://www.cchristi.ca/event/concert-dress-rehearsal-with-costumes/
END:VEVENT
BEGIN:VEVENT
DTSTART;TZID=America/Los_Angeles:20240904T090000
DTEND;TZID=America/Los_Angeles:20240904T100000
DTSTAMP:20260425T082138
CREATED:20240704T194355Z
LAST-MODIFIED:20240704T205633Z
UID:16366-1725440400-1725444000@www.cchristi.ca
SUMMARY:School Mass
DESCRIPTION:
URL:https://www.cchristi.ca/event/school-mass/
END:VEVENT
BEGIN:VEVENT
DTSTART;TZID=America/Los_Angeles:20251217T133000
DTEND;TZID=America/Los_Angeles:20251217T144500
DTSTAMP:20260425T082138
CREATED:20250628T223303Z
LAST-MODIFIED:20250628T223303Z
UID:18720-1765978200-1765982700@www.cchristi.ca
SUMMARY:Matinee Performance - with Costumes & Evening Performance at 7 PM
DESCRIPTION:Matinee Performance 1:30 PM \nEvening Performance at 7:00 PM
URL:https://www.cchristi.ca/event/matinee-performance-with-costumes-evening-performance-at-7-pm/
END:VEVENT
BEGIN:VEVENT
DTSTART;VALUE=DATE:20251218
DTEND;VALUE=DATE:20251219
DTSTAMP:20260425T082138
CREATED:20250628T223805Z
LAST-MODIFIED:20250628T223805Z
UID:18724-1766016000-1766102399@www.cchristi.ca
SUMMARY:Pajama Day
DESCRIPTION:
URL:https://www.cchristi.ca/event/pajama-day/
END:VEVENT
BEGIN:VEVENT
DTSTART;TZID=America/Los_Angeles:20251219T084000
DTEND;TZID=America/Los_Angeles:20251219T113000
DTSTAMP:20260425T082138
CREATED:20250628T223946Z
LAST-MODIFIED:20250628T223946Z
UID:18726-1766133600-1766143800@www.cchristi.ca
SUMMARY:Early Dismissal
DESCRIPTION:
URL:https://www.cchristi.ca/event/early-dismissal-5/
END:VEVENT
BEGIN:VEVENT
DTSTART;TZID=America/Los_Angeles:20251219T090500
DTEND;TZID=America/Los_Angeles:20251219T100000
DTSTAMP:20260425T082138
CREATED:20250710T174932Z
LAST-MODIFIED:20250710T174932Z
UID:18867-1766135100-1766138400@www.cchristi.ca
SUMMARY:School Mass
DESCRIPTION:
URL:https://www.cchristi.ca/event/school-mass-22/
END:VEVENT
BEGIN:VEVENT
DTSTART;VALUE=DATE:20251222
DTEND;VALUE=DATE:20260103
DTSTAMP:20260425T082138
CREATED:20250628T224055Z
LAST-MODIFIED:20250628T224055Z
UID:18728-1766361600-1767398399@www.cchristi.ca
SUMMARY:Christmas Break - School Closed
DESCRIPTION:
URL:https://www.cchristi.ca/event/christmas-break-school-closed/
END:VEVENT
BEGIN:VEVENT
DTSTART;VALUE=DATE:20251224
DTEND;VALUE=DATE:20251225
DTSTAMP:20260425T082138
CREATED:20250628T224132Z
LAST-MODIFIED:20250628T224132Z
UID:18730-1766534400-1766620799@www.cchristi.ca
SUMMARY:Christmas Eve
DESCRIPTION:
URL:https://www.cchristi.ca/event/christmas-eve/
END:VEVENT
BEGIN:VEVENT
DTSTART;TZID=America/Los_Angeles:20240904T090000
DTEND;TZID=America/Los_Angeles:20240904T100000
DTSTAMP:20260425T082138
CREATED:20240704T194355Z
LAST-MODIFIED:20240704T205633Z
UID:16366-1725440400-1725444000@www.cchristi.ca
SUMMARY:School Mass
DESCRIPTION:
URL:https://www.cchristi.ca/event/school-mass/
END:VEVENT
BEGIN:VEVENT
DTSTART;VALUE=DATE:20251225
DTEND;VALUE=DATE:20251226
DTSTAMP:20260425T082138
CREATED:20250628T224204Z
LAST-MODIFIED:20250628T224204Z
UID:18732-1766620800-1766707199@www.cchristi.ca
SUMMARY:Christmas Day - Merry Christmas
DESCRIPTION:
URL:https://www.cchristi.ca/event/christmas-day-merry-christmas/
END:VEVENT
BEGIN:VEVENT
DTSTART;VALUE=DATE:20251231
DTEND;VALUE=DATE:20260101
DTSTAMP:20260425T082138
CREATED:20250628T224304Z
LAST-MODIFIED:20250628T224304Z
UID:18734-1767139200-1767225599@www.cchristi.ca
SUMMARY:New Year's Eve
DESCRIPTION:
URL:https://www.cchristi.ca/event/new-years-eve/
END:VEVENT
BEGIN:VEVENT
DTSTART;TZID=America/Los_Angeles:20240904T090000
DTEND;TZID=America/Los_Angeles:20240904T100000
DTSTAMP:20260425T082138
CREATED:20240704T194355Z
LAST-MODIFIED:20240704T205633Z
UID:16366-1725440400-1725444000@www.cchristi.ca
SUMMARY:School Mass
DESCRIPTION:
URL:https://www.cchristi.ca/event/school-mass/
END:VEVENT
BEGIN:VEVENT
DTSTART;VALUE=DATE:20260101
DTEND;VALUE=DATE:20260102
DTSTAMP:20260425T082138
CREATED:20250628T224341Z
LAST-MODIFIED:20250628T224341Z
UID:18736-1767225600-1767311999@www.cchristi.ca
SUMMARY:New Year's Day - Happy New Year
DESCRIPTION:
URL:https://www.cchristi.ca/event/new-years-day-happy-new-year/
END:VEVENT
BEGIN:VEVENT
DTSTART;VALUE=DATE:20260105
DTEND;VALUE=DATE:20260106
DTSTAMP:20260425T082138
CREATED:20250628T224612Z
LAST-MODIFIED:20250628T224612Z
UID:18738-1767571200-1767657599@www.cchristi.ca
SUMMARY:School Re-opens - Welcome Back!
DESCRIPTION:
URL:https://www.cchristi.ca/event/school-re-opens-welcome-back/
END:VEVENT
BEGIN:VEVENT
DTSTART;VALUE=DATE:20260106
DTEND;VALUE=DATE:20260107
DTSTAMP:20260425T082138
CREATED:20250629T163359Z
LAST-MODIFIED:20250629T163359Z
UID:18800-1767657600-1767743999@www.cchristi.ca
SUMMARY:Epiphany
DESCRIPTION:
URL:https://www.cchristi.ca/event/epiphany/
END:VEVENT
BEGIN:VEVENT
DTSTART;TZID=America/Los_Angeles:20240904T090000
DTEND;TZID=America/Los_Angeles:20240904T100000
DTSTAMP:20260425T082138
CREATED:20240704T194355Z
LAST-MODIFIED:20240704T205633Z
UID:16366-1725440400-1725444000@www.cchristi.ca
SUMMARY:School Mass
DESCRIPTION:
URL:https://www.cchristi.ca/event/school-mass/
END:VEVENT
BEGIN:VEVENT
DTSTART;TZID=America/Los_Angeles:20260107T090500
DTEND;TZID=America/Los_Angeles:20260107T100000
DTSTAMP:20260425T082138
CREATED:20250710T175146Z
LAST-MODIFIED:20250710T175146Z
UID:18869-1767776700-1767780000@www.cchristi.ca
SUMMARY:School Mass
DESCRIPTION:
URL:https://www.cchristi.ca/event/school-mass-23/
END:VEVENT
END:VCALENDAR