BEGIN:VCALENDAR
VERSION:2.0
PRODID:-//Corpus Christi School - ECPv6.15.20//NONSGML v1.0//EN
CALSCALE:GREGORIAN
METHOD:PUBLISH
X-WR-CALNAME:Corpus Christi School
X-ORIGINAL-URL:https://www.cchristi.ca
X-WR-CALDESC:Events for Corpus Christi School
REFRESH-INTERVAL;VALUE=DURATION:PT1H
X-Robots-Tag:noindex
X-PUBLISHED-TTL:PT1H
BEGIN:VTIMEZONE
TZID:America/Los_Angeles
BEGIN:DAYLIGHT
TZOFFSETFROM:-0800
TZOFFSETTO:-0700
TZNAME:PDT
DTSTART:20230312T100000
END:DAYLIGHT
BEGIN:STANDARD
TZOFFSETFROM:-0700
TZOFFSETTO:-0800
TZNAME:PST
DTSTART:20231105T090000
END:STANDARD
BEGIN:DAYLIGHT
TZOFFSETFROM:-0800
TZOFFSETTO:-0700
TZNAME:PDT
DTSTART:20240310T100000
END:DAYLIGHT
BEGIN:STANDARD
TZOFFSETFROM:-0700
TZOFFSETTO:-0800
TZNAME:PST
DTSTART:20241103T090000
END:STANDARD
BEGIN:DAYLIGHT
TZOFFSETFROM:-0800
TZOFFSETTO:-0700
TZNAME:PDT
DTSTART:20250309T100000
END:DAYLIGHT
BEGIN:STANDARD
TZOFFSETFROM:-0700
TZOFFSETTO:-0800
TZNAME:PST
DTSTART:20251102T090000
END:STANDARD
BEGIN:DAYLIGHT
TZOFFSETFROM:-0800
TZOFFSETTO:-0700
TZNAME:PDT
DTSTART:20260308T100000
END:DAYLIGHT
BEGIN:STANDARD
TZOFFSETFROM:-0700
TZOFFSETTO:-0800
TZNAME:PST
DTSTART:20261101T090000
END:STANDARD
END:VTIMEZONE
BEGIN:VTIMEZONE
TZID:Asia/Shanghai
BEGIN:STANDARD
TZOFFSETFROM:+0800
TZOFFSETTO:+0800
TZNAME:CST
DTSTART:20240101T000000
END:STANDARD
END:VTIMEZONE
BEGIN:VEVENT
DTSTART;VALUE=DATE:20250426
DTEND;VALUE=DATE:20250427
DTSTAMP:20260425T064625
CREATED:20250408T180159Z
LAST-MODIFIED:20250408T180215Z
UID:17705-1745625600-1745711999@www.cchristi.ca
SUMMARY:First Holy Communion @ 9:00AM
DESCRIPTION:
URL:https://www.cchristi.ca/event/first-holy-communion-900am/
END:VEVENT
BEGIN:VEVENT
DTSTART;TZID=America/Los_Angeles:20240904T090000
DTEND;TZID=America/Los_Angeles:20240904T100000
DTSTAMP:20260425T064625
CREATED:20240704T194355Z
LAST-MODIFIED:20240704T205633Z
UID:16366-1725440400-1725444000@www.cchristi.ca
SUMMARY:School Mass
DESCRIPTION:
URL:https://www.cchristi.ca/event/school-mass/
END:VEVENT
BEGIN:VEVENT
DTSTART;TZID=America/Los_Angeles:20250501T180000
DTEND;TZID=America/Los_Angeles:20250501T200000
DTSTAMP:20260425T064625
CREATED:20240820T161929Z
LAST-MODIFIED:20240820T164342Z
UID:16489-1746122400-1746129600@www.cchristi.ca
SUMMARY:Gr. 7 Confirmation Evening Retreat
DESCRIPTION:
URL:https://www.cchristi.ca/event/gr-7-confirmation-evening-retreat/
END:VEVENT
BEGIN:VEVENT
DTSTART;VALUE=DATE:20250502
DTEND;VALUE=DATE:20250503
DTSTAMP:20260425T064625
CREATED:20240820T165026Z
LAST-MODIFIED:20240820T165026Z
UID:16492-1746144000-1746230399@www.cchristi.ca
SUMMARY:Gr. 7 Confirmation Retreat and Photos
DESCRIPTION:
URL:https://www.cchristi.ca/event/gr-7-confirmation-retreat-and-photos/
END:VEVENT
BEGIN:VEVENT
DTSTART;VALUE=DATE:20250505
DTEND;VALUE=DATE:20250506
DTSTAMP:20260425T064625
CREATED:20250408T180935Z
LAST-MODIFIED:20250408T181049Z
UID:17711-1746403200-1746489599@www.cchristi.ca
SUMMARY:St. Helen's Track Meet @ SFU
DESCRIPTION:
URL:https://www.cchristi.ca/event/st-helens-track-meet-sfu/
END:VEVENT
BEGIN:VEVENT
DTSTART;TZID=America/Los_Angeles:20250506T093000
DTEND;TZID=America/Los_Angeles:20250506T103000
DTSTAMP:20260425T064625
CREATED:20240820T165235Z
LAST-MODIFIED:20240820T165235Z
UID:16494-1746523800-1746527400@www.cchristi.ca
SUMMARY:Kindergarten 2025 Orientation @ 9:30am - 10:30pm
DESCRIPTION:
URL:https://www.cchristi.ca/event/kindergarten-2025-orientation-930am-1030pm/
END:VEVENT
BEGIN:VEVENT
DTSTART;TZID=America/Los_Angeles:20240904T090000
DTEND;TZID=America/Los_Angeles:20240904T100000
DTSTAMP:20260425T064625
CREATED:20240704T194355Z
LAST-MODIFIED:20240704T205633Z
UID:16366-1725440400-1725444000@www.cchristi.ca
SUMMARY:School Mass
DESCRIPTION:
URL:https://www.cchristi.ca/event/school-mass/
END:VEVENT
BEGIN:VEVENT
DTSTART;VALUE=DATE:20250509
DTEND;VALUE=DATE:20250510
DTSTAMP:20260425T064625
CREATED:20240820T165648Z
LAST-MODIFIED:20240820T165648Z
UID:16496-1746748800-1746835199@www.cchristi.ca
SUMMARY:Crowning of Our Lady
DESCRIPTION:
URL:https://www.cchristi.ca/event/crowning-of-our-lady/
END:VEVENT
BEGIN:VEVENT
DTSTART;TZID=America/Los_Angeles:20250510T090000
DTEND;TZID=America/Los_Angeles:20250510T110000
DTSTAMP:20260425T064625
CREATED:20240820T165742Z
LAST-MODIFIED:20250408T180444Z
UID:16498-1746867600-1746874800@www.cchristi.ca
SUMMARY:Gr. 7 Confirmation Mass  @ 9:00am
DESCRIPTION:
URL:https://www.cchristi.ca/event/gr-7-confirmation-mass-900am/
END:VEVENT
BEGIN:VEVENT
DTSTART;VALUE=DATE:20250512
DTEND;VALUE=DATE:20250513
DTSTAMP:20260425T064625
CREATED:20250408T181939Z
LAST-MODIFIED:20250408T181939Z
UID:17713-1747008000-1747094399@www.cchristi.ca
SUMMARY:Holy Cross Track Meet @ SFU
DESCRIPTION:
URL:https://www.cchristi.ca/event/holy-cross-track-meet-sfu/
END:VEVENT
BEGIN:VEVENT
DTSTART;TZID=America/Los_Angeles:20240904T090000
DTEND;TZID=America/Los_Angeles:20240904T100000
DTSTAMP:20260425T064625
CREATED:20240704T194355Z
LAST-MODIFIED:20240704T205633Z
UID:16366-1725440400-1725444000@www.cchristi.ca
SUMMARY:School Mass
DESCRIPTION:
URL:https://www.cchristi.ca/event/school-mass/
END:VEVENT
BEGIN:VEVENT
DTSTART;VALUE=DATE:20250519
DTEND;VALUE=DATE:20250520
DTSTAMP:20260425T064625
CREATED:20240820T170659Z
LAST-MODIFIED:20240820T170659Z
UID:16504-1747612800-1747699199@www.cchristi.ca
SUMMARY:Victoria Day - No School
DESCRIPTION:
URL:https://www.cchristi.ca/event/victoria-day-no-school/
END:VEVENT
BEGIN:VEVENT
DTSTART;VALUE=DATE:20250520
DTEND;VALUE=DATE:20250521
DTSTAMP:20260425T064625
CREATED:20250408T180626Z
LAST-MODIFIED:20250408T180626Z
UID:17709-1747699200-1747785599@www.cchristi.ca
SUMMARY:No School
DESCRIPTION:
URL:https://www.cchristi.ca/event/no-school-2/
END:VEVENT
BEGIN:VEVENT
DTSTART;TZID=America/Los_Angeles:20240904T090000
DTEND;TZID=America/Los_Angeles:20240904T100000
DTSTAMP:20260425T064625
CREATED:20240704T194355Z
LAST-MODIFIED:20240704T205633Z
UID:16366-1725440400-1725444000@www.cchristi.ca
SUMMARY:School Mass
DESCRIPTION:
URL:https://www.cchristi.ca/event/school-mass/
END:VEVENT
BEGIN:VEVENT
DTSTART;VALUE=DATE:20250525
DTEND;VALUE=DATE:20250526
DTSTAMP:20260425T064625
CREATED:20240820T170734Z
LAST-MODIFIED:20240820T170734Z
UID:16506-1748131200-1748217599@www.cchristi.ca
SUMMARY:School Parish Picnic Event
DESCRIPTION:
URL:https://www.cchristi.ca/event/school-parish-picnic-event/
END:VEVENT
BEGIN:VEVENT
DTSTART;VALUE=DATE:20250528
DTEND;VALUE=DATE:20250529
DTSTAMP:20260425T064625
CREATED:20240820T170952Z
LAST-MODIFIED:20240820T170952Z
UID:16509-1748390400-1748476799@www.cchristi.ca
SUMMARY:CISVA Track Meet Day 1
DESCRIPTION:
URL:https://www.cchristi.ca/event/cisva-track-meet-day-1/
END:VEVENT
BEGIN:VEVENT
DTSTART;TZID=America/Los_Angeles:20240904T090000
DTEND;TZID=America/Los_Angeles:20240904T100000
DTSTAMP:20260425T064625
CREATED:20240704T194355Z
LAST-MODIFIED:20240704T205633Z
UID:16366-1725440400-1725444000@www.cchristi.ca
SUMMARY:School Mass
DESCRIPTION:
URL:https://www.cchristi.ca/event/school-mass/
END:VEVENT
BEGIN:VEVENT
DTSTART;VALUE=DATE:20250602
DTEND;VALUE=DATE:20250603
DTSTAMP:20260425T064625
CREATED:20240820T171037Z
LAST-MODIFIED:20240820T171037Z
UID:16511-1748822400-1748908799@www.cchristi.ca
SUMMARY:Dress Down Day: Blue/Yellow Colors
DESCRIPTION:
URL:https://www.cchristi.ca/event/dress-down-day-blue-yellow-colors/
END:VEVENT
BEGIN:VEVENT
DTSTART;VALUE=DATE:20250603
DTEND;VALUE=DATE:20250604
DTSTAMP:20260425T064625
CREATED:20240820T171115Z
LAST-MODIFIED:20240820T171115Z
UID:16513-1748908800-1748995199@www.cchristi.ca
SUMMARY:Dress Down Day: Red/Green Colors
DESCRIPTION:
URL:https://www.cchristi.ca/event/dress-down-day-red-green-colors/
END:VEVENT
BEGIN:VEVENT
DTSTART;VALUE=DATE:20250604
DTEND;VALUE=DATE:20250605
DTSTAMP:20260425T064625
CREATED:20240820T171408Z
LAST-MODIFIED:20240820T171408Z
UID:16515-1748995200-1749081599@www.cchristi.ca
SUMMARY:CISVA Track Meet Day 2
DESCRIPTION:
URL:https://www.cchristi.ca/event/cisva-track-meet-day-2/
END:VEVENT
BEGIN:VEVENT
DTSTART;TZID=America/Los_Angeles:20240904T090000
DTEND;TZID=America/Los_Angeles:20240904T100000
DTSTAMP:20260425T064625
CREATED:20240704T194355Z
LAST-MODIFIED:20240704T205633Z
UID:16366-1725440400-1725444000@www.cchristi.ca
SUMMARY:School Mass
DESCRIPTION:
URL:https://www.cchristi.ca/event/school-mass/
END:VEVENT
BEGIN:VEVENT
DTSTART;VALUE=DATE:20250605
DTEND;VALUE=DATE:20250606
DTSTAMP:20260425T064625
CREATED:20240820T171526Z
LAST-MODIFIED:20240820T171526Z
UID:16517-1749081600-1749167999@www.cchristi.ca
SUMMARY:Sports Day/Fun Day : Dismissal @ 11:30am
DESCRIPTION:
URL:https://www.cchristi.ca/event/sports-day-fun-day-dismissal-1130am/
END:VEVENT
BEGIN:VEVENT
DTSTART;VALUE=DATE:20250606
DTEND;VALUE=DATE:20250607
DTSTAMP:20260425T064625
CREATED:20240820T171620Z
LAST-MODIFIED:20240820T171620Z
UID:16519-1749168000-1749254399@www.cchristi.ca
SUMMARY:PRO-D Day - No school for students
DESCRIPTION:
URL:https://www.cchristi.ca/event/pro-d-day-no-school-for-students-2/
END:VEVENT
BEGIN:VEVENT
DTSTART;VALUE=DATE:20250609
DTEND;VALUE=DATE:20250610
DTSTAMP:20260425T064625
CREATED:20240820T171704Z
LAST-MODIFIED:20240820T171704Z
UID:16521-1749427200-1749513599@www.cchristi.ca
SUMMARY:PRO-D Day - No School for Students
DESCRIPTION:
URL:https://www.cchristi.ca/event/pro-d-day-no-school-for-students-3/
END:VEVENT
BEGIN:VEVENT
DTSTART;TZID=America/Los_Angeles:20240904T090000
DTEND;TZID=America/Los_Angeles:20240904T100000
DTSTAMP:20260425T064625
CREATED:20240704T194355Z
LAST-MODIFIED:20240704T205633Z
UID:16366-1725440400-1725444000@www.cchristi.ca
SUMMARY:School Mass
DESCRIPTION:
URL:https://www.cchristi.ca/event/school-mass/
END:VEVENT
BEGIN:VEVENT
DTSTART;TZID=America/Los_Angeles:20240904T090000
DTEND;TZID=America/Los_Angeles:20240904T100000
DTSTAMP:20260425T064625
CREATED:20240704T194355Z
LAST-MODIFIED:20240704T205633Z
UID:16366-1725440400-1725444000@www.cchristi.ca
SUMMARY:School Mass
DESCRIPTION:
URL:https://www.cchristi.ca/event/school-mass/
END:VEVENT
BEGIN:VEVENT
DTSTART;VALUE=DATE:20250620
DTEND;VALUE=DATE:20250621
DTSTAMP:20260425T064625
CREATED:20240820T171804Z
LAST-MODIFIED:20240820T171804Z
UID:16523-1750377600-1750463999@www.cchristi.ca
SUMMARY:Grade 7 Farewell Mass @ 5:30pm
DESCRIPTION:
URL:https://www.cchristi.ca/event/grade-7-farewell-mass-530pm/
END:VEVENT
BEGIN:VEVENT
DTSTART;TZID=Asia/Shanghai:20250620T173000
DTEND;TZID=Asia/Shanghai:20250620T183000
DTSTAMP:20260425T064625
CREATED:20231029T121454Z
LAST-MODIFIED:20240704T211152Z
UID:15007-1750440600-1750444200@www.cchristi.ca
SUMMARY:Grad Seven Farewell Mass
DESCRIPTION:Following the mass  and awards\, there will be a light reception in the gymnasium for parents and students only.
URL:https://www.cchristi.ca/event/grad-seven-farewell-mass/
END:VEVENT
BEGIN:VEVENT
DTSTART;VALUE=DATE:20250624
DTEND;VALUE=DATE:20250625
DTSTAMP:20260425T064625
CREATED:20240820T171903Z
LAST-MODIFIED:20240820T171903Z
UID:16525-1750723200-1750809599@www.cchristi.ca
SUMMARY:Dress Down Day: Yellow Day in honor of Ivan Chick's Birthday
DESCRIPTION:
URL:https://www.cchristi.ca/event/dress-down-day-yellow-day-in-honor-of-ivan-chicks-birthday/
END:VEVENT
BEGIN:VEVENT
DTSTART;VALUE=DATE:20250624
DTEND;VALUE=DATE:20250625
DTSTAMP:20260425T064625
CREATED:20240820T171946Z
LAST-MODIFIED:20240820T171946Z
UID:16527-1750723200-1750809599@www.cchristi.ca
SUMMARY:Report Cards/Learning Summary Distributed
DESCRIPTION:
URL:https://www.cchristi.ca/event/report-cards-learning-summary-distributed/
END:VEVENT
END:VCALENDAR