BEGIN:VCALENDAR
VERSION:2.0
PRODID:-//Corpus Christi School - ECPv6.15.20//NONSGML v1.0//EN
CALSCALE:GREGORIAN
METHOD:PUBLISH
X-ORIGINAL-URL:https://www.cchristi.ca
X-WR-CALDESC:Events for Corpus Christi School
REFRESH-INTERVAL;VALUE=DURATION:PT1H
X-Robots-Tag:noindex
X-PUBLISHED-TTL:PT1H
BEGIN:VTIMEZONE
TZID:America/Los_Angeles
BEGIN:DAYLIGHT
TZOFFSETFROM:-0800
TZOFFSETTO:-0700
TZNAME:PDT
DTSTART:20230312T100000
END:DAYLIGHT
BEGIN:STANDARD
TZOFFSETFROM:-0700
TZOFFSETTO:-0800
TZNAME:PST
DTSTART:20231105T090000
END:STANDARD
BEGIN:DAYLIGHT
TZOFFSETFROM:-0800
TZOFFSETTO:-0700
TZNAME:PDT
DTSTART:20240310T100000
END:DAYLIGHT
BEGIN:STANDARD
TZOFFSETFROM:-0700
TZOFFSETTO:-0800
TZNAME:PST
DTSTART:20241103T090000
END:STANDARD
BEGIN:DAYLIGHT
TZOFFSETFROM:-0800
TZOFFSETTO:-0700
TZNAME:PDT
DTSTART:20250309T100000
END:DAYLIGHT
BEGIN:STANDARD
TZOFFSETFROM:-0700
TZOFFSETTO:-0800
TZNAME:PST
DTSTART:20251102T090000
END:STANDARD
BEGIN:DAYLIGHT
TZOFFSETFROM:-0800
TZOFFSETTO:-0700
TZNAME:PDT
DTSTART:20260308T100000
END:DAYLIGHT
BEGIN:STANDARD
TZOFFSETFROM:-0700
TZOFFSETTO:-0800
TZNAME:PST
DTSTART:20261101T090000
END:STANDARD
BEGIN:DAYLIGHT
TZOFFSETFROM:-0800
TZOFFSETTO:-0700
TZNAME:PDT
DTSTART:20270314T100000
END:DAYLIGHT
BEGIN:STANDARD
TZOFFSETFROM:-0700
TZOFFSETTO:-0800
TZNAME:PST
DTSTART:20271107T090000
END:STANDARD
END:VTIMEZONE
BEGIN:VEVENT
DTSTART;TZID=America/Los_Angeles:20260128T090500
DTEND;TZID=America/Los_Angeles:20260128T100000
DTSTAMP:20260425T035343
CREATED:20250710T175403Z
LAST-MODIFIED:20250710T175403Z
UID:18875-1769591100-1769594400@www.cchristi.ca
SUMMARY:School Mass
DESCRIPTION:
URL:https://www.cchristi.ca/event/school-mass-26/
END:VEVENT
BEGIN:VEVENT
DTSTART;VALUE=DATE:20260201
DTEND;VALUE=DATE:20260202
DTSTAMP:20260425T035343
CREATED:20250629T163507Z
LAST-MODIFIED:20250629T163507Z
UID:18802-1769904000-1769990399@www.cchristi.ca
SUMMARY:Catholic Schools Week
DESCRIPTION:
URL:https://www.cchristi.ca/event/catholic-schools-week/
END:VEVENT
BEGIN:VEVENT
DTSTART;TZID=America/Los_Angeles:20240904T090000
DTEND;TZID=America/Los_Angeles:20240904T100000
DTSTAMP:20260425T035343
CREATED:20240704T194355Z
LAST-MODIFIED:20240704T205633Z
UID:16366-1725440400-1725444000@www.cchristi.ca
SUMMARY:School Mass
DESCRIPTION:
URL:https://www.cchristi.ca/event/school-mass/
END:VEVENT
BEGIN:VEVENT
DTSTART;TZID=America/Los_Angeles:20260204T090500
DTEND;TZID=America/Los_Angeles:20260204T100000
DTSTAMP:20260425T035343
CREATED:20250710T175615Z
LAST-MODIFIED:20250710T175615Z
UID:18877-1770195900-1770199200@www.cchristi.ca
SUMMARY:School Mass
DESCRIPTION:
URL:https://www.cchristi.ca/event/school-mass-27/
END:VEVENT
BEGIN:VEVENT
DTSTART;TZID=America/Los_Angeles:20240904T090000
DTEND;TZID=America/Los_Angeles:20240904T100000
DTSTAMP:20260425T035343
CREATED:20240704T194355Z
LAST-MODIFIED:20240704T205633Z
UID:16366-1725440400-1725444000@www.cchristi.ca
SUMMARY:School Mass
DESCRIPTION:
URL:https://www.cchristi.ca/event/school-mass/
END:VEVENT
BEGIN:VEVENT
DTSTART;TZID=America/Los_Angeles:20260211T090500
DTEND;TZID=America/Los_Angeles:20260211T100000
DTSTAMP:20260425T035343
CREATED:20250710T175654Z
LAST-MODIFIED:20250710T175654Z
UID:18879-1770800700-1770804000@www.cchristi.ca
SUMMARY:School Mass
DESCRIPTION:
URL:https://www.cchristi.ca/event/school-mass-28/
END:VEVENT
BEGIN:VEVENT
DTSTART;VALUE=DATE:20260212
DTEND;VALUE=DATE:20260214
DTSTAMP:20260425T035343
CREATED:20250628T225240Z
LAST-MODIFIED:20250628T225240Z
UID:18745-1770854400-1771027199@www.cchristi.ca
SUMMARY:Catholic Educators Conference - School Closed
DESCRIPTION:
URL:https://www.cchristi.ca/event/catholic-educators-conference-school-closed/
END:VEVENT
BEGIN:VEVENT
DTSTART;VALUE=DATE:20260216
DTEND;VALUE=DATE:20260217
DTSTAMP:20260425T035343
CREATED:20250628T225316Z
LAST-MODIFIED:20250628T225316Z
UID:18747-1771200000-1771286399@www.cchristi.ca
SUMMARY:National Family Day - School Closed
DESCRIPTION:
URL:https://www.cchristi.ca/event/national-family-day-school-closed/
END:VEVENT
BEGIN:VEVENT
DTSTART;VALUE=DATE:20260217
DTEND;VALUE=DATE:20260218
DTSTAMP:20260425T035343
CREATED:20250628T225416Z
LAST-MODIFIED:20250628T231500Z
UID:18749-1771286400-1771372799@www.cchristi.ca
SUMMARY:Valentine's Day  & Lunar New Year - Red Day
DESCRIPTION:Valentine’s Day reminds us that we are loved.   “For God so loved the world\, that he gave his only Son\, that whoever believes in him should not perish but have eternal life”. John 3:16 \nStudents may come to school dressed in red in celebration of Valentine’s Day and Lunar New Year. \n 
URL:https://www.cchristi.ca/event/lunar-new-year/
END:VEVENT
BEGIN:VEVENT
DTSTART;VALUE=DATE:20260218
DTEND;VALUE=DATE:20260219
DTSTAMP:20260425T035343
CREATED:20250628T225632Z
LAST-MODIFIED:20250711T034306Z
UID:18751-1771372800-1771459199@www.cchristi.ca
SUMMARY:Ash Wednesday
DESCRIPTION:
URL:https://www.cchristi.ca/event/ash-wednesday-the-first-day-of-lent/
END:VEVENT
BEGIN:VEVENT
DTSTART;TZID=America/Los_Angeles:20240904T090000
DTEND;TZID=America/Los_Angeles:20240904T100000
DTSTAMP:20260425T035343
CREATED:20240704T194355Z
LAST-MODIFIED:20240704T205633Z
UID:16366-1725440400-1725444000@www.cchristi.ca
SUMMARY:School Mass
DESCRIPTION:
URL:https://www.cchristi.ca/event/school-mass/
END:VEVENT
BEGIN:VEVENT
DTSTART;TZID=America/Los_Angeles:20260218T090500
DTEND;TZID=America/Los_Angeles:20260218T101500
DTSTAMP:20260425T035343
CREATED:20250710T175837Z
LAST-MODIFIED:20250711T034407Z
UID:18881-1771405500-1771409700@www.cchristi.ca
SUMMARY:School Mass
DESCRIPTION:
URL:https://www.cchristi.ca/event/school-mass-ash-wednesday/
END:VEVENT
BEGIN:VEVENT
DTSTART;TZID=America/Los_Angeles:20260224T184500
DTEND;TZID=America/Los_Angeles:20260224T194500
DTSTAMP:20260425T035343
CREATED:20250628T230221Z
LAST-MODIFIED:20250628T230221Z
UID:18755-1771958700-1771962300@www.cchristi.ca
SUMMARY:Holy Communion Talk 2 For Parents - Online
DESCRIPTION:
URL:https://www.cchristi.ca/event/holy-communion-talk-2-for-parents-online/
END:VEVENT
BEGIN:VEVENT
DTSTART;TZID=America/Los_Angeles:20240904T090000
DTEND;TZID=America/Los_Angeles:20240904T100000
DTSTAMP:20260425T035343
CREATED:20240704T194355Z
LAST-MODIFIED:20240704T205633Z
UID:16366-1725440400-1725444000@www.cchristi.ca
SUMMARY:School Mass
DESCRIPTION:
URL:https://www.cchristi.ca/event/school-mass/
END:VEVENT
BEGIN:VEVENT
DTSTART;TZID=America/Los_Angeles:20260225T090500
DTEND;TZID=America/Los_Angeles:20260225T100000
DTSTAMP:20260425T035343
CREATED:20250710T175918Z
LAST-MODIFIED:20250710T175918Z
UID:18883-1772010300-1772013600@www.cchristi.ca
SUMMARY:School Mass
DESCRIPTION:
URL:https://www.cchristi.ca/event/school-mass-29/
END:VEVENT
BEGIN:VEVENT
DTSTART;VALUE=DATE:20260226
DTEND;VALUE=DATE:20260227
DTSTAMP:20260425T035343
CREATED:20250628T231018Z
LAST-MODIFIED:20250628T231018Z
UID:18757-1772064000-1772150399@www.cchristi.ca
SUMMARY:Anti-Bullying Day - Love One Another
DESCRIPTION:Students may wear pink today to promote kindness\, love and compassion  for each other.  \n“A new commandment I give you: Love one another. As I have loved you\, so you must love one another. By this everyone will know that you are my disciples\, if you love one another.”John 13:34-35
URL:https://www.cchristi.ca/event/anti-bullying-day-love-one-another/
END:VEVENT
BEGIN:VEVENT
DTSTART;TZID=America/Los_Angeles:20260227T080000
DTEND;TZID=America/Los_Angeles:20260227T170000
DTSTAMP:20260425T035343
CREATED:20250628T231634Z
LAST-MODIFIED:20250628T231634Z
UID:18760-1772179200-1772211600@www.cchristi.ca
SUMMARY:Professional Day - School Closed
DESCRIPTION:
URL:https://www.cchristi.ca/event/professional-day-school-closed-4/
END:VEVENT
BEGIN:VEVENT
DTSTART;TZID=America/Los_Angeles:20240904T090000
DTEND;TZID=America/Los_Angeles:20240904T100000
DTSTAMP:20260425T035343
CREATED:20240704T194355Z
LAST-MODIFIED:20240704T205633Z
UID:16366-1725440400-1725444000@www.cchristi.ca
SUMMARY:School Mass
DESCRIPTION:
URL:https://www.cchristi.ca/event/school-mass/
END:VEVENT
BEGIN:VEVENT
DTSTART;TZID=America/Los_Angeles:20260304T090500
DTEND;TZID=America/Los_Angeles:20260304T100000
DTSTAMP:20260425T035343
CREATED:20250710T180437Z
LAST-MODIFIED:20250710T180437Z
UID:18887-1772615100-1772618400@www.cchristi.ca
SUMMARY:School Mass
DESCRIPTION:
URL:https://www.cchristi.ca/event/school-mass-30/
END:VEVENT
BEGIN:VEVENT
DTSTART;VALUE=DATE:20260305
DTEND;VALUE=DATE:20260306
DTSTAMP:20260425T035343
CREATED:20250628T231918Z
LAST-MODIFIED:20250628T231918Z
UID:18762-1772668800-1772755199@www.cchristi.ca
SUMMARY:2nd Written Update Distributed
DESCRIPTION:
URL:https://www.cchristi.ca/event/2nd-written-update-distributed/
END:VEVENT
BEGIN:VEVENT
DTSTART;VALUE=DATE:20260306
DTEND;VALUE=DATE:20260307
DTSTAMP:20260425T035343
CREATED:20250628T232000Z
LAST-MODIFIED:20250628T232000Z
UID:18764-1772755200-1772841599@www.cchristi.ca
SUMMARY:Student Led Conferences - No Regular Classes
DESCRIPTION:
URL:https://www.cchristi.ca/event/student-led-conferences-no-regular-classes/
END:VEVENT
BEGIN:VEVENT
DTSTART;TZID=America/Los_Angeles:20240904T090000
DTEND;TZID=America/Los_Angeles:20240904T100000
DTSTAMP:20260425T035343
CREATED:20240704T194355Z
LAST-MODIFIED:20240704T205633Z
UID:16366-1725440400-1725444000@www.cchristi.ca
SUMMARY:School Mass
DESCRIPTION:
URL:https://www.cchristi.ca/event/school-mass/
END:VEVENT
BEGIN:VEVENT
DTSTART;TZID=America/Los_Angeles:20260311T090500
DTEND;TZID=America/Los_Angeles:20260311T100000
DTSTAMP:20260425T035343
CREATED:20250710T180517Z
LAST-MODIFIED:20250710T180517Z
UID:18889-1773219900-1773223200@www.cchristi.ca
SUMMARY:School Mass
DESCRIPTION:
URL:https://www.cchristi.ca/event/school-mass-31/
END:VEVENT
BEGIN:VEVENT
DTSTART;VALUE=DATE:20260312
DTEND;VALUE=DATE:20260313
DTSTAMP:20260425T035343
CREATED:20250628T233019Z
LAST-MODIFIED:20250628T233019Z
UID:18766-1773273600-1773359999@www.cchristi.ca
SUMMARY:Green Day - for St. Patrick's Day
DESCRIPTION:We celebrate St. Patrick’s Day\, on March 17th\, as a religious feast day to honour Saint Patrick\, the patron saint of Ireland\, who is credited with bringing Christianity to Ireland.   Students are welcome to wear green today to celebrate faith\, conversion\, forgiveness and missionary work. 
URL:https://www.cchristi.ca/event/green-day-for-st-patricks-day/
END:VEVENT
BEGIN:VEVENT
DTSTART;TZID=America/Los_Angeles:20260313T084000
DTEND;TZID=America/Los_Angeles:20260313T120500
DTSTAMP:20260425T035343
CREATED:20250628T233109Z
LAST-MODIFIED:20250628T233109Z
UID:18768-1773391200-1773403500@www.cchristi.ca
SUMMARY:Early Dismissal
DESCRIPTION:
URL:https://www.cchristi.ca/event/early-dismissal-6/
END:VEVENT
BEGIN:VEVENT
DTSTART;VALUE=DATE:20260316
DTEND;VALUE=DATE:20260328
DTSTAMP:20260425T035343
CREATED:20250628T233215Z
LAST-MODIFIED:20250628T233215Z
UID:18770-1773619200-1774655999@www.cchristi.ca
SUMMARY:Spring Break - School Closed
DESCRIPTION:
URL:https://www.cchristi.ca/event/spring-break-school-closed/
END:VEVENT
BEGIN:VEVENT
DTSTART;TZID=America/Los_Angeles:20240904T090000
DTEND;TZID=America/Los_Angeles:20240904T100000
DTSTAMP:20260425T035343
CREATED:20240704T194355Z
LAST-MODIFIED:20240704T205633Z
UID:16366-1725440400-1725444000@www.cchristi.ca
SUMMARY:School Mass
DESCRIPTION:
URL:https://www.cchristi.ca/event/school-mass/
END:VEVENT
BEGIN:VEVENT
DTSTART;TZID=America/Los_Angeles:20240904T090000
DTEND;TZID=America/Los_Angeles:20240904T100000
DTSTAMP:20260425T035343
CREATED:20240704T194355Z
LAST-MODIFIED:20240704T205633Z
UID:16366-1725440400-1725444000@www.cchristi.ca
SUMMARY:School Mass
DESCRIPTION:
URL:https://www.cchristi.ca/event/school-mass/
END:VEVENT
BEGIN:VEVENT
DTSTART;VALUE=DATE:20260330
DTEND;VALUE=DATE:20260331
DTSTAMP:20260425T035343
CREATED:20250628T233405Z
LAST-MODIFIED:20250628T233405Z
UID:18772-1774828800-1774915199@www.cchristi.ca
SUMMARY:First Day Back After Spring Break
DESCRIPTION:
URL:https://www.cchristi.ca/event/first-day-back-after-spring-break/
END:VEVENT
BEGIN:VEVENT
DTSTART;TZID=America/Los_Angeles:20240904T090000
DTEND;TZID=America/Los_Angeles:20240904T100000
DTSTAMP:20260425T035343
CREATED:20240704T194355Z
LAST-MODIFIED:20240704T205633Z
UID:16366-1725440400-1725444000@www.cchristi.ca
SUMMARY:School Mass
DESCRIPTION:
URL:https://www.cchristi.ca/event/school-mass/
END:VEVENT
END:VCALENDAR