BEGIN:VCALENDAR
VERSION:2.0
PRODID:-//Corpus Christi School - ECPv6.15.20//NONSGML v1.0//EN
CALSCALE:GREGORIAN
METHOD:PUBLISH
X-ORIGINAL-URL:https://www.cchristi.ca
X-WR-CALDESC:Events for Corpus Christi School
REFRESH-INTERVAL;VALUE=DURATION:PT1H
X-Robots-Tag:noindex
X-PUBLISHED-TTL:PT1H
BEGIN:VTIMEZONE
TZID:Asia/Shanghai
BEGIN:STANDARD
TZOFFSETFROM:+0800
TZOFFSETTO:+0800
TZNAME:CST
DTSTART:20230101T000000
END:STANDARD
END:VTIMEZONE
BEGIN:VTIMEZONE
TZID:America/Los_Angeles
BEGIN:DAYLIGHT
TZOFFSETFROM:-0800
TZOFFSETTO:-0700
TZNAME:PDT
DTSTART:20230312T100000
END:DAYLIGHT
BEGIN:STANDARD
TZOFFSETFROM:-0700
TZOFFSETTO:-0800
TZNAME:PST
DTSTART:20231105T090000
END:STANDARD
BEGIN:DAYLIGHT
TZOFFSETFROM:-0800
TZOFFSETTO:-0700
TZNAME:PDT
DTSTART:20240310T100000
END:DAYLIGHT
BEGIN:STANDARD
TZOFFSETFROM:-0700
TZOFFSETTO:-0800
TZNAME:PST
DTSTART:20241103T090000
END:STANDARD
BEGIN:DAYLIGHT
TZOFFSETFROM:-0800
TZOFFSETTO:-0700
TZNAME:PDT
DTSTART:20250309T100000
END:DAYLIGHT
BEGIN:STANDARD
TZOFFSETFROM:-0700
TZOFFSETTO:-0800
TZNAME:PST
DTSTART:20251102T090000
END:STANDARD
END:VTIMEZONE
BEGIN:VEVENT
DTSTART;VALUE=DATE:20240902
DTEND;VALUE=DATE:20240903
DTSTAMP:20260424T134756
CREATED:20231029T121949Z
LAST-MODIFIED:20231029T121949Z
UID:15014-1725235200-1725321599@www.cchristi.ca
SUMMARY:Labour Day
DESCRIPTION:
URL:https://www.cchristi.ca/event/labour-day/
END:VEVENT
BEGIN:VEVENT
DTSTART;VALUE=DATE:20240903
DTEND;VALUE=DATE:20240904
DTSTAMP:20260424T134756
CREATED:20240704T193150Z
LAST-MODIFIED:20240704T193200Z
UID:16355-1725321600-1725407999@www.cchristi.ca
SUMMARY:11:30am Dismissal
DESCRIPTION:
URL:https://www.cchristi.ca/event/1130am-dismissal/
END:VEVENT
BEGIN:VEVENT
DTSTART;VALUE=DATE:20240903
DTEND;VALUE=DATE:20240904
DTSTAMP:20260424T134756
CREATED:20240704T192417Z
LAST-MODIFIED:20240704T193128Z
UID:16344-1725321600-1725407999@www.cchristi.ca
SUMMARY:First Day of School
DESCRIPTION:
URL:https://www.cchristi.ca/event/first-day-of-school/
END:VEVENT
BEGIN:VEVENT
DTSTART;TZID=America/Los_Angeles:20240904T090000
DTEND;TZID=America/Los_Angeles:20240904T100000
DTSTAMP:20260424T134756
CREATED:20240704T194355Z
LAST-MODIFIED:20240704T205633Z
UID:16366-1725440400-1725444000@www.cchristi.ca
SUMMARY:School Mass
DESCRIPTION:
URL:https://www.cchristi.ca/event/school-mass/
END:VEVENT
BEGIN:VEVENT
DTSTART;TZID=America/Los_Angeles:20240910T184500
DTEND;TZID=America/Los_Angeles:20240910T194500
DTSTAMP:20260424T134756
CREATED:20240704T193334Z
LAST-MODIFIED:20240704T193334Z
UID:16357-1725993900-1725997500@www.cchristi.ca
SUMMARY:Meet the Teacher Night
DESCRIPTION:
URL:https://www.cchristi.ca/event/meet-the-teacher-night/
END:VEVENT
BEGIN:VEVENT
DTSTART;VALUE=DATE:20240911
DTEND;VALUE=DATE:20240914
DTSTAMP:20260424T134756
CREATED:20240704T193928Z
LAST-MODIFIED:20240704T193928Z
UID:16360-1726012800-1726271999@www.cchristi.ca
SUMMARY:Gr. 7 Camp Elphinstone
DESCRIPTION:
URL:https://www.cchristi.ca/event/gr-7-camp-elphinstone/
END:VEVENT
BEGIN:VEVENT
DTSTART;TZID=America/Los_Angeles:20240904T090000
DTEND;TZID=America/Los_Angeles:20240904T100000
DTSTAMP:20260424T134756
CREATED:20240704T194355Z
LAST-MODIFIED:20240704T205633Z
UID:16366-1725440400-1725444000@www.cchristi.ca
SUMMARY:School Mass
DESCRIPTION:
URL:https://www.cchristi.ca/event/school-mass/
END:VEVENT
BEGIN:VEVENT
DTSTART;VALUE=DATE:20240917
DTEND;VALUE=DATE:20240918
DTSTAMP:20260424T134756
CREATED:20240704T194038Z
LAST-MODIFIED:20240704T194158Z
UID:16362-1726531200-1726617599@www.cchristi.ca
SUMMARY:12:05pm Early Dismissal
DESCRIPTION:
URL:https://www.cchristi.ca/event/early-dismissal-3/
END:VEVENT
BEGIN:VEVENT
DTSTART;TZID=America/Los_Angeles:20240904T090000
DTEND;TZID=America/Los_Angeles:20240904T100000
DTSTAMP:20260424T134756
CREATED:20240704T194355Z
LAST-MODIFIED:20240704T205633Z
UID:16366-1725440400-1725444000@www.cchristi.ca
SUMMARY:School Mass
DESCRIPTION:
URL:https://www.cchristi.ca/event/school-mass/
END:VEVENT
BEGIN:VEVENT
DTSTART;VALUE=DATE:20240920
DTEND;VALUE=DATE:20240921
DTSTAMP:20260424T134756
CREATED:20240704T210014Z
LAST-MODIFIED:20240704T210014Z
UID:16381-1726790400-1726876799@www.cchristi.ca
SUMMARY:School Photos: Full Uniform required - Individual and Class
DESCRIPTION:
URL:https://www.cchristi.ca/event/school-photos-full-uniform-required-individual-and-class/
END:VEVENT
BEGIN:VEVENT
DTSTART;TZID=America/Los_Angeles:20240904T090000
DTEND;TZID=America/Los_Angeles:20240904T100000
DTSTAMP:20260424T134756
CREATED:20240704T194355Z
LAST-MODIFIED:20240704T205633Z
UID:16366-1725440400-1725444000@www.cchristi.ca
SUMMARY:School Mass
DESCRIPTION:
URL:https://www.cchristi.ca/event/school-mass/
END:VEVENT
BEGIN:VEVENT
DTSTART;VALUE=DATE:20240927
DTEND;VALUE=DATE:20240928
DTSTAMP:20260424T134756
CREATED:20240704T210155Z
LAST-MODIFIED:20240704T210155Z
UID:16385-1727395200-1727481599@www.cchristi.ca
SUMMARY:Dress Down Day - Orange T-Shirt Day
DESCRIPTION:
URL:https://www.cchristi.ca/event/dress-down-day-orange-t-shirt-day/
END:VEVENT
BEGIN:VEVENT
DTSTART;VALUE=DATE:20240930
DTEND;VALUE=DATE:20241001
DTSTAMP:20260424T134756
CREATED:20240704T210244Z
LAST-MODIFIED:20240704T210244Z
UID:16387-1727654400-1727740799@www.cchristi.ca
SUMMARY:No School in honor in Observance of The National Day for Truth and Reconciliation
DESCRIPTION:
URL:https://www.cchristi.ca/event/no-school-in-honor-in-observance-of-the-national-day-for-truth-and-reconciliation/
END:VEVENT
END:VCALENDAR