BEGIN:VCALENDAR
VERSION:2.0
PRODID:-//Corpus Christi School - ECPv6.15.20//NONSGML v1.0//EN
CALSCALE:GREGORIAN
METHOD:PUBLISH
X-ORIGINAL-URL:https://www.cchristi.ca
X-WR-CALDESC:Events for Corpus Christi School
REFRESH-INTERVAL;VALUE=DURATION:PT1H
X-Robots-Tag:noindex
X-PUBLISHED-TTL:PT1H
BEGIN:VTIMEZONE
TZID:America/Los_Angeles
BEGIN:DAYLIGHT
TZOFFSETFROM:-0800
TZOFFSETTO:-0700
TZNAME:PDT
DTSTART:20230312T100000
END:DAYLIGHT
BEGIN:STANDARD
TZOFFSETFROM:-0700
TZOFFSETTO:-0800
TZNAME:PST
DTSTART:20231105T090000
END:STANDARD
BEGIN:DAYLIGHT
TZOFFSETFROM:-0800
TZOFFSETTO:-0700
TZNAME:PDT
DTSTART:20240310T100000
END:DAYLIGHT
BEGIN:STANDARD
TZOFFSETFROM:-0700
TZOFFSETTO:-0800
TZNAME:PST
DTSTART:20241103T090000
END:STANDARD
BEGIN:DAYLIGHT
TZOFFSETFROM:-0800
TZOFFSETTO:-0700
TZNAME:PDT
DTSTART:20250309T100000
END:DAYLIGHT
BEGIN:STANDARD
TZOFFSETFROM:-0700
TZOFFSETTO:-0800
TZNAME:PST
DTSTART:20251102T090000
END:STANDARD
END:VTIMEZONE
BEGIN:VTIMEZONE
TZID:Asia/Shanghai
BEGIN:STANDARD
TZOFFSETFROM:+0800
TZOFFSETTO:+0800
TZNAME:CST
DTSTART:20230101T000000
END:STANDARD
END:VTIMEZONE
BEGIN:VEVENT
DTSTART;VALUE=DATE:20241105
DTEND;VALUE=DATE:20241106
DTSTAMP:20260424T163855
CREATED:20240705T170723Z
LAST-MODIFIED:20240705T170723Z
UID:16417-1730764800-1730851199@www.cchristi.ca
SUMMARY:Chastity Talk Gr. 7 for Parents @6:30pm
DESCRIPTION:
URL:https://www.cchristi.ca/event/chastity-talk-gr-7-for-parents-630pm/
END:VEVENT
BEGIN:VEVENT
DTSTART;TZID=America/Los_Angeles:20240904T090000
DTEND;TZID=America/Los_Angeles:20240904T100000
DTSTAMP:20260424T163855
CREATED:20240704T194355Z
LAST-MODIFIED:20240704T205633Z
UID:16366-1725440400-1725444000@www.cchristi.ca
SUMMARY:School Mass
DESCRIPTION:
URL:https://www.cchristi.ca/event/school-mass/
END:VEVENT
BEGIN:VEVENT
DTSTART;VALUE=DATE:20241111
DTEND;VALUE=DATE:20241112
DTSTAMP:20260424T163855
CREATED:20231027T124015Z
LAST-MODIFIED:20240704T211921Z
UID:14766-1731283200-1731369599@www.cchristi.ca
SUMMARY:Remembrance Day - No School
DESCRIPTION:
URL:https://www.cchristi.ca/event/remembrane-day-no-school/
END:VEVENT
BEGIN:VEVENT
DTSTART;VALUE=DATE:20241112
DTEND;VALUE=DATE:20241113
DTSTAMP:20260424T163855
CREATED:20231027T124015Z
LAST-MODIFIED:20240705T163601Z
UID:14768-1731369600-1731455999@www.cchristi.ca
SUMMARY:Book Fair - Dress up Day for Students
DESCRIPTION:Dress Up Day for Students \nStudents will come to school dressed as their favourite book character or author.
URL:https://www.cchristi.ca/event/book-fair/
END:VEVENT
BEGIN:VEVENT
DTSTART;VALUE=DATE:20241113
DTEND;VALUE=DATE:20241116
DTSTAMP:20260424T163855
CREATED:20231029T111102Z
LAST-MODIFIED:20240705T163715Z
UID:14952-1731456000-1731715199@www.cchristi.ca
SUMMARY:Book Fair
DESCRIPTION:
URL:https://www.cchristi.ca/event/book-fair-6/
END:VEVENT
BEGIN:VEVENT
DTSTART;TZID=America/Los_Angeles:20241113T090000
DTEND;TZID=America/Los_Angeles:20241113T100000
DTSTAMP:20260424T163855
CREATED:20240704T195937Z
LAST-MODIFIED:20240704T200514Z
UID:16369-1731488400-1731492000@www.cchristi.ca
SUMMARY:No School Mass - Paraliturgy
DESCRIPTION:
URL:https://www.cchristi.ca/event/school-mass-2/
END:VEVENT
BEGIN:VEVENT
DTSTART;TZID=America/Los_Angeles:20240904T090000
DTEND;TZID=America/Los_Angeles:20240904T100000
DTSTAMP:20260424T163855
CREATED:20240704T194355Z
LAST-MODIFIED:20240704T205633Z
UID:16366-1725440400-1725444000@www.cchristi.ca
SUMMARY:School Mass
DESCRIPTION:
URL:https://www.cchristi.ca/event/school-mass/
END:VEVENT
BEGIN:VEVENT
DTSTART;VALUE=DATE:20241122
DTEND;VALUE=DATE:20241123
DTSTAMP:20260424T163855
CREATED:20231029T110155Z
LAST-MODIFIED:20240705T154802Z
UID:14944-1732233600-1732319999@www.cchristi.ca
SUMMARY:Professional Day - No School
DESCRIPTION:
URL:https://www.cchristi.ca/event/professional-day-no-school/
END:VEVENT
BEGIN:VEVENT
DTSTART;TZID=America/Los_Angeles:20240904T090000
DTEND;TZID=America/Los_Angeles:20240904T100000
DTSTAMP:20260424T163855
CREATED:20240704T194355Z
LAST-MODIFIED:20240704T205633Z
UID:16366-1725440400-1725444000@www.cchristi.ca
SUMMARY:School Mass
DESCRIPTION:
URL:https://www.cchristi.ca/event/school-mass/
END:VEVENT
END:VCALENDAR