BEGIN:VCALENDAR
VERSION:2.0
PRODID:-//Corpus Christi School - ECPv6.15.20//NONSGML v1.0//EN
CALSCALE:GREGORIAN
METHOD:PUBLISH
X-ORIGINAL-URL:https://www.cchristi.ca
X-WR-CALDESC:Events for Corpus Christi School
REFRESH-INTERVAL;VALUE=DURATION:PT1H
X-Robots-Tag:noindex
X-PUBLISHED-TTL:PT1H
BEGIN:VTIMEZONE
TZID:Asia/Shanghai
BEGIN:STANDARD
TZOFFSETFROM:+0800
TZOFFSETTO:+0800
TZNAME:CST
DTSTART:20240101T000000
END:STANDARD
END:VTIMEZONE
BEGIN:VTIMEZONE
TZID:America/Los_Angeles
BEGIN:DAYLIGHT
TZOFFSETFROM:-0800
TZOFFSETTO:-0700
TZNAME:PDT
DTSTART:20230312T100000
END:DAYLIGHT
BEGIN:STANDARD
TZOFFSETFROM:-0700
TZOFFSETTO:-0800
TZNAME:PST
DTSTART:20231105T090000
END:STANDARD
BEGIN:DAYLIGHT
TZOFFSETFROM:-0800
TZOFFSETTO:-0700
TZNAME:PDT
DTSTART:20240310T100000
END:DAYLIGHT
BEGIN:STANDARD
TZOFFSETFROM:-0700
TZOFFSETTO:-0800
TZNAME:PST
DTSTART:20241103T090000
END:STANDARD
BEGIN:DAYLIGHT
TZOFFSETFROM:-0800
TZOFFSETTO:-0700
TZNAME:PDT
DTSTART:20250309T100000
END:DAYLIGHT
BEGIN:STANDARD
TZOFFSETFROM:-0700
TZOFFSETTO:-0800
TZNAME:PST
DTSTART:20251102T090000
END:STANDARD
BEGIN:DAYLIGHT
TZOFFSETFROM:-0800
TZOFFSETTO:-0700
TZNAME:PDT
DTSTART:20260308T100000
END:DAYLIGHT
BEGIN:STANDARD
TZOFFSETFROM:-0700
TZOFFSETTO:-0800
TZNAME:PST
DTSTART:20261101T090000
END:STANDARD
END:VTIMEZONE
BEGIN:VEVENT
DTSTART;VALUE=DATE:20250106
DTEND;VALUE=DATE:20250107
DTSTAMP:20260424T192504
CREATED:20231029T111811Z
LAST-MODIFIED:20240705T162809Z
UID:14958-1736121600-1736207999@www.cchristi.ca
SUMMARY:School Re-opens
DESCRIPTION:
URL:https://www.cchristi.ca/event/school-re-opens/
END:VEVENT
BEGIN:VEVENT
DTSTART;TZID=America/Los_Angeles:20240904T090000
DTEND;TZID=America/Los_Angeles:20240904T100000
DTSTAMP:20260424T192504
CREATED:20240704T194355Z
LAST-MODIFIED:20240704T205633Z
UID:16366-1725440400-1725444000@www.cchristi.ca
SUMMARY:School Mass
DESCRIPTION:
URL:https://www.cchristi.ca/event/school-mass/
END:VEVENT
BEGIN:VEVENT
DTSTART;TZID=America/Los_Angeles:20240904T090000
DTEND;TZID=America/Los_Angeles:20240904T100000
DTSTAMP:20260424T192504
CREATED:20240704T194355Z
LAST-MODIFIED:20240704T205633Z
UID:16366-1725440400-1725444000@www.cchristi.ca
SUMMARY:School Mass
DESCRIPTION:
URL:https://www.cchristi.ca/event/school-mass/
END:VEVENT
BEGIN:VEVENT
DTSTART;TZID=America/Los_Angeles:20250121T184500
DTEND;TZID=America/Los_Angeles:20250121T184500
DTSTAMP:20260424T192504
CREATED:20240123T164608Z
LAST-MODIFIED:20240705T171718Z
UID:16004-1737485100-1737485100@www.cchristi.ca
SUMMARY:Annual General Meeting (AGM)
DESCRIPTION:
URL:https://www.cchristi.ca/event/annual-general-meeting-agm/
END:VEVENT
BEGIN:VEVENT
DTSTART;TZID=America/Los_Angeles:20240904T090000
DTEND;TZID=America/Los_Angeles:20240904T100000
DTSTAMP:20260424T192504
CREATED:20240704T194355Z
LAST-MODIFIED:20240704T205633Z
UID:16366-1725440400-1725444000@www.cchristi.ca
SUMMARY:School Mass
DESCRIPTION:
URL:https://www.cchristi.ca/event/school-mass/
END:VEVENT
BEGIN:VEVENT
DTSTART;VALUE=DATE:20250128
DTEND;VALUE=DATE:20250129
DTSTAMP:20260424T192504
CREATED:20240705T171902Z
LAST-MODIFIED:20240705T171902Z
UID:16432-1738022400-1738108799@www.cchristi.ca
SUMMARY:Gr. 7 Confirmation Talk #2 Online @ 6:45pm
DESCRIPTION:
URL:https://www.cchristi.ca/event/gr-7-confirmation-talk-2-online-645pm/
END:VEVENT
BEGIN:VEVENT
DTSTART;TZID=America/Los_Angeles:20240904T090000
DTEND;TZID=America/Los_Angeles:20240904T100000
DTSTAMP:20260424T192504
CREATED:20240704T194355Z
LAST-MODIFIED:20240704T205633Z
UID:16366-1725440400-1725444000@www.cchristi.ca
SUMMARY:School Mass
DESCRIPTION:
URL:https://www.cchristi.ca/event/school-mass/
END:VEVENT
BEGIN:VEVENT
DTSTART;VALUE=DATE:20250130
DTEND;VALUE=DATE:20250131
DTSTAMP:20260424T192504
CREATED:20240705T172011Z
LAST-MODIFIED:20240705T172011Z
UID:16434-1738195200-1738281599@www.cchristi.ca
SUMMARY:Red T-Shirt Day: Dress Down for Lunar New Year
DESCRIPTION:
URL:https://www.cchristi.ca/event/red-t-shirt-day-dress-down-for-lunar-new-year/
END:VEVENT
END:VCALENDAR